BEGIN:VCALENDAR
VERSION:2.0
PRODID:-//Comitato Disabilità Municipio X - ECPv6.15.20//NONSGML v1.0//EN
CALSCALE:GREGORIAN
METHOD:PUBLISH
X-WR-CALNAME:Comitato Disabilità Municipio X
X-ORIGINAL-URL:https://www.comitatodisabilitam10.it
X-WR-CALDESC:Eventi per Comitato Disabilità Municipio X
REFRESH-INTERVAL;VALUE=DURATION:PT1H
X-Robots-Tag:noindex
X-PUBLISHED-TTL:PT1H
BEGIN:VTIMEZONE
TZID:Europe/Rome
BEGIN:DAYLIGHT
TZOFFSETFROM:+0100
TZOFFSETTO:+0200
TZNAME:CEST
DTSTART:20200329T010000
END:DAYLIGHT
BEGIN:STANDARD
TZOFFSETFROM:+0200
TZOFFSETTO:+0100
TZNAME:CET
DTSTART:20201025T010000
END:STANDARD
BEGIN:DAYLIGHT
TZOFFSETFROM:+0100
TZOFFSETTO:+0200
TZNAME:CEST
DTSTART:20210328T010000
END:DAYLIGHT
BEGIN:STANDARD
TZOFFSETFROM:+0200
TZOFFSETTO:+0100
TZNAME:CET
DTSTART:20211031T010000
END:STANDARD
BEGIN:DAYLIGHT
TZOFFSETFROM:+0100
TZOFFSETTO:+0200
TZNAME:CEST
DTSTART:20220327T010000
END:DAYLIGHT
BEGIN:STANDARD
TZOFFSETFROM:+0200
TZOFFSETTO:+0100
TZNAME:CET
DTSTART:20221030T010000
END:STANDARD
END:VTIMEZONE
BEGIN:VEVENT
DTSTART;TZID=Europe/Rome:20210227T150000
DTEND;TZID=Europe/Rome:20210227T180000
DTSTAMP:20260425T231034
CREATED:20210301T062721Z
LAST-MODIFIED:20210301T063110Z
UID:2445-1614438000-1614448800@www.comitatodisabilitam10.it
SUMMARY:FIRST SUL PEI UNIFORME
DESCRIPTION:Il Comitato Disabilità Municipio X\, come associazione aderente alla FIRST (Federazione Italiana Rete Sostegno e Tutela dei diritti delle persone con disabilità)\, ti invita al primo webinar First sul PEI uniforme che si terrà sabato 27 febbraio alle ore 15.00. \nIl webinar sarà un confronto con il Presidente della First\, Maurizio Benincasa e sarà aperto al contributo di altri relatori (massimo 3) del gruppo First Scuola e Inclusione. \nAl webinar sarà presente l’interprete LIS.
URL:https://www.comitatodisabilitam10.it/eventi/first-sul-pei-uniforme/
LOCATION:RM
CATEGORIES:Tutti gli eventi del Comitato Disabilità Municipio X
ATTACH;FMTTYPE=image/jpeg:https://www.comitatodisabilitam10.it/wp-content/uploads/2018/02/first.jpg
ORGANIZER;CN="Federazione Italiana Rete Sostegno e Tutela (F.I.R.S.T.)":MAILTO:firstfederazione65@gmail.com
END:VEVENT
END:VCALENDAR