BEGIN:VCALENDAR
VERSION:2.0
PRODID:-//Comitato Disabilità Municipio X - ECPv6.15.20//NONSGML v1.0//EN
CALSCALE:GREGORIAN
METHOD:PUBLISH
X-ORIGINAL-URL:https://www.comitatodisabilitam10.it
X-WR-CALDESC:Eventi per Comitato Disabilità Municipio X
REFRESH-INTERVAL;VALUE=DURATION:PT1H
X-Robots-Tag:noindex
X-PUBLISHED-TTL:PT1H
BEGIN:VTIMEZONE
TZID:Europe/Rome
BEGIN:DAYLIGHT
TZOFFSETFROM:+0100
TZOFFSETTO:+0200
TZNAME:CEST
DTSTART:20210328T010000
END:DAYLIGHT
BEGIN:STANDARD
TZOFFSETFROM:+0200
TZOFFSETTO:+0100
TZNAME:CET
DTSTART:20211031T010000
END:STANDARD
BEGIN:DAYLIGHT
TZOFFSETFROM:+0100
TZOFFSETTO:+0200
TZNAME:CEST
DTSTART:20220327T010000
END:DAYLIGHT
BEGIN:STANDARD
TZOFFSETFROM:+0200
TZOFFSETTO:+0100
TZNAME:CET
DTSTART:20221030T010000
END:STANDARD
BEGIN:DAYLIGHT
TZOFFSETFROM:+0100
TZOFFSETTO:+0200
TZNAME:CEST
DTSTART:20230326T010000
END:DAYLIGHT
BEGIN:STANDARD
TZOFFSETFROM:+0200
TZOFFSETTO:+0100
TZNAME:CET
DTSTART:20231029T010000
END:STANDARD
END:VTIMEZONE
BEGIN:VEVENT
DTSTART;TZID=Europe/Rome:20221207T160000
DTEND;TZID=Europe/Rome:20221207T183000
DTSTAMP:20260423T124114
CREATED:20221114T150810Z
LAST-MODIFIED:20221114T164307Z
UID:2881-1670428800-1670437800@www.comitatodisabilitam10.it
SUMMARY:Ginnastica per tutti
DESCRIPTION:Ginnastica per tutti è il corso di educazione e movimento rivolto a ragazzi ed adulti con disabilità organizzato con la collaborazione delll’Associazione Happy Time Infernetto \, si terrà presso la palestra “Five Studio Personal” ed avrà inizio mercoledì 7 Dicembre 2022 . \nIl corso è gratuito e ci sarà ogni mercoledì pomeriggio\, di seguito i dettagli: \n\ndalle 16:00 alle 17:00 corso dai 15 anni in su\ndalle 17:15 alle 18:15 corso dai 7 ai 14 anni\n\nMercoledi 30 Novembre 2022 si terrà una lezione di prova \nScarica la locandina
URL:https://www.comitatodisabilitam10.it/eventi/ginnastica-per-tutti/
LOCATION:Five Studio Personal\, Via Dobbiaco\, 199\, Roma\, RM\, 00124\, Italia
CATEGORIES:Tutti gli eventi del Comitato Disabilità Municipio X
ATTACH;FMTTYPE=image/jpeg:https://www.comitatodisabilitam10.it/wp-content/uploads/2022/11/ginnastica-cover.jpg
ORGANIZER;CN="Comitato Disabilit%C3%A0 Municipio X APS":MAILTO:comitatodisabilitam10@gmail.com
END:VEVENT
END:VCALENDAR