BEGIN:VCALENDAR
VERSION:2.0
PRODID:-//Comitato Disabilità Municipio X - ECPv6.15.20//NONSGML v1.0//EN
CALSCALE:GREGORIAN
METHOD:PUBLISH
X-ORIGINAL-URL:https://www.comitatodisabilitam10.it
X-WR-CALDESC:Eventi per Comitato Disabilità Municipio X
REFRESH-INTERVAL;VALUE=DURATION:PT1H
X-Robots-Tag:noindex
X-PUBLISHED-TTL:PT1H
BEGIN:VTIMEZONE
TZID:Europe/Rome
BEGIN:DAYLIGHT
TZOFFSETFROM:+0100
TZOFFSETTO:+0200
TZNAME:CEST
DTSTART:20220327T010000
END:DAYLIGHT
BEGIN:STANDARD
TZOFFSETFROM:+0200
TZOFFSETTO:+0100
TZNAME:CET
DTSTART:20221030T010000
END:STANDARD
BEGIN:DAYLIGHT
TZOFFSETFROM:+0100
TZOFFSETTO:+0200
TZNAME:CEST
DTSTART:20230326T010000
END:DAYLIGHT
BEGIN:STANDARD
TZOFFSETFROM:+0200
TZOFFSETTO:+0100
TZNAME:CET
DTSTART:20231029T010000
END:STANDARD
BEGIN:DAYLIGHT
TZOFFSETFROM:+0100
TZOFFSETTO:+0200
TZNAME:CEST
DTSTART:20240331T010000
END:DAYLIGHT
BEGIN:STANDARD
TZOFFSETFROM:+0200
TZOFFSETTO:+0100
TZNAME:CET
DTSTART:20241027T010000
END:STANDARD
END:VTIMEZONE
BEGIN:VEVENT
DTSTART;TZID=Europe/Rome:20231001T103000
DTEND;TZID=Europe/Rome:20231001T183000
DTSTAMP:20260422T191147
CREATED:20230905T074058Z
LAST-MODIFIED:20230905T075142Z
UID:3342-1696156200-1696185000@www.comitatodisabilitam10.it
SUMMARY:FESTA D'AUTUNNO
DESCRIPTION:Il nostro Comitato è felice di annunciare la “FESTA D’AUTUNNO” per i propri soci il giorno 01 Ottobre dalle 10.30 alle 18.30\, che si svolgerà in un luogo magico quale è lo spazio che ci ospita dell’associazione “La Farfalla“ presso il parco Pianeta H in Via di Castel Fusano.
URL:https://www.comitatodisabilitam10.it/eventi/festa-dautunno/
LOCATION:La Farfalla Pianeta H\, Via di castel fusano 152\, Roma\, Roma\, 00124
CATEGORIES:Tutti gli eventi del Comitato Disabilità Municipio X
ATTACH;FMTTYPE=image/jpeg:https://www.comitatodisabilitam10.it/wp-content/uploads/2023/09/FESTA_AUTUNNO.jpeg
ORGANIZER;CN="Comitato Disabilit%C3%A0 Municipio X APS":MAILTO:comitatodisabilitam10@gmail.com
END:VEVENT
END:VCALENDAR