BEGIN:VCALENDAR
VERSION:2.0
PRODID:-//Comitato Disabilità Municipio X - ECPv6.15.20//NONSGML v1.0//EN
CALSCALE:GREGORIAN
METHOD:PUBLISH
X-ORIGINAL-URL:https://www.comitatodisabilitam10.it
X-WR-CALDESC:Eventi per Comitato Disabilità Municipio X
REFRESH-INTERVAL;VALUE=DURATION:PT1H
X-Robots-Tag:noindex
X-PUBLISHED-TTL:PT1H
BEGIN:VTIMEZONE
TZID:Europe/Rome
BEGIN:DAYLIGHT
TZOFFSETFROM:+0100
TZOFFSETTO:+0200
TZNAME:CEST
DTSTART:20220327T010000
END:DAYLIGHT
BEGIN:STANDARD
TZOFFSETFROM:+0200
TZOFFSETTO:+0100
TZNAME:CET
DTSTART:20221030T010000
END:STANDARD
BEGIN:DAYLIGHT
TZOFFSETFROM:+0100
TZOFFSETTO:+0200
TZNAME:CEST
DTSTART:20230326T010000
END:DAYLIGHT
BEGIN:STANDARD
TZOFFSETFROM:+0200
TZOFFSETTO:+0100
TZNAME:CET
DTSTART:20231029T010000
END:STANDARD
BEGIN:DAYLIGHT
TZOFFSETFROM:+0100
TZOFFSETTO:+0200
TZNAME:CEST
DTSTART:20240331T010000
END:DAYLIGHT
BEGIN:STANDARD
TZOFFSETFROM:+0200
TZOFFSETTO:+0100
TZNAME:CET
DTSTART:20241027T010000
END:STANDARD
END:VTIMEZONE
BEGIN:VEVENT
DTSTART;TZID=Europe/Rome:20231005T173000
DTEND;TZID=Europe/Rome:20231005T190000
DTSTAMP:20260422T191147
CREATED:20230929T130353Z
LAST-MODIFIED:20230929T130450Z
UID:3393-1696527000-1696532400@www.comitatodisabilitam10.it
SUMMARY:LABORATORIO TEATRALE
DESCRIPTION:Dal 05 Ottobre 2023 organizziamo gratuitamente un LABORATORIO TEATRALE con la direzione di Francesca Satta Flores e Lara Panizzi\, rivolto ai ragazzi ed alle ragazze con disabilità del CDMX. \nGli incontri si terranno il giovedì pomeriggio dalle ore 17.30 alle ore 19.00 presso l’Aula Magna dell’Istituto Comprensivo Viale Vega. \nIl teatro è\, senza dubbio\, uno strumento di crescita e di sviluppo della persona e proprio mediante questo linguaggio vorremmo favorire l’incontro tra individualità e soggettività diverse che\, attraverso la mediazione artistica\, entrano in contatto\, si conoscono e contribuiscono alla reciproca crescita. \nTutte le info le trovate scaricando il pdf.
URL:https://www.comitatodisabilitam10.it/eventi/laboratorio-teatrale/
LOCATION:Aula Magna I.C. Vega\, Viale Vega 91\, Roma\, Roma\, 00122\, Italy
CATEGORIES:Tutti gli eventi del Comitato Disabilità Municipio X
ATTACH;FMTTYPE=image/jpeg:https://www.comitatodisabilitam10.it/wp-content/uploads/2023/09/LABORATORIO_TEATRALE.jpeg
ORGANIZER;CN="Comitato Disabilit%C3%A0 Municipio X APS":MAILTO:comitatodisabilitam10@gmail.com
END:VEVENT
END:VCALENDAR