BEGIN:VCALENDAR
VERSION:2.0
PRODID:-//Comitato Disabilità Municipio X - ECPv6.15.20//NONSGML v1.0//EN
CALSCALE:GREGORIAN
METHOD:PUBLISH
X-WR-CALNAME:Comitato Disabilità Municipio X
X-ORIGINAL-URL:https://www.comitatodisabilitam10.it
X-WR-CALDESC:Eventi per Comitato Disabilità Municipio X
REFRESH-INTERVAL;VALUE=DURATION:PT1H
X-Robots-Tag:noindex
X-PUBLISHED-TTL:PT1H
BEGIN:VTIMEZONE
TZID:Europe/Rome
BEGIN:DAYLIGHT
TZOFFSETFROM:+0100
TZOFFSETTO:+0200
TZNAME:CEST
DTSTART:20240331T010000
END:DAYLIGHT
BEGIN:STANDARD
TZOFFSETFROM:+0200
TZOFFSETTO:+0100
TZNAME:CET
DTSTART:20241027T010000
END:STANDARD
BEGIN:DAYLIGHT
TZOFFSETFROM:+0100
TZOFFSETTO:+0200
TZNAME:CEST
DTSTART:20250330T010000
END:DAYLIGHT
BEGIN:STANDARD
TZOFFSETFROM:+0200
TZOFFSETTO:+0100
TZNAME:CET
DTSTART:20251026T010000
END:STANDARD
BEGIN:DAYLIGHT
TZOFFSETFROM:+0100
TZOFFSETTO:+0200
TZNAME:CEST
DTSTART:20260329T010000
END:DAYLIGHT
BEGIN:STANDARD
TZOFFSETFROM:+0200
TZOFFSETTO:+0100
TZNAME:CET
DTSTART:20261025T010000
END:STANDARD
END:VTIMEZONE
BEGIN:VEVENT
DTSTART;TZID=Europe/Rome:20251112T173000
DTEND;TZID=Europe/Rome:20251114T223000
DTSTAMP:20260420T131109
CREATED:20251112T094457Z
LAST-MODIFIED:20251112T144831Z
UID:3843-1762968600-1763159400@www.comitatodisabilitam10.it
SUMMARY:FRAGILE FESTIVAL - Teatro di Cittadinanza Ostia
DESCRIPTION:Via aspettiamo alla manifestazione FRAGILE FESTIVAL  dove avrà luogo Performance site-specific (restituzione laboratorio TDC) di e con Mattia Berto. Mattia Berto è l’ideatore e il fondatore del progetto “Teatro di Cittadinanza” un’iniziativa che unisce teatro e impegno sociale\, coinvolgendo cittadini di ogni età e provenienza nella creazione di esperienze performative collettive. \nNoi saremo presenti con la mostra fotografica “C’era una volta”\, le fiabe\, realizzata dalla nostra Pamela Pompei con la partecipazione dei ragazzi del Comitato Disabilità Municipio X APS e finanziata dai Commercianti del Municipio X di Roma. \nLa manifestazione si svolgerà dal 12 al 14 novembre al Teatro di Cittadinanza Ostia con inizio dello spettacolo alle ore 17:30.  \nIngresso gratuito. In caso di maltempo lo spettacolo si svolgerà presso la sala al chiuso di Piazza Capelvenere
URL:https://www.comitatodisabilitam10.it/eventi/fragile-festival-teatro-di-cittadinanza-ostia/
LOCATION:Teatro di Cittadinanza Ostia\, Piazza Capelvenere\, Roma\, RM\, 00126\, Italy
CATEGORIES:Tutti gli eventi del Comitato Disabilità Municipio X
ATTACH;FMTTYPE=image/jpeg:https://www.comitatodisabilitam10.it/wp-content/uploads/2025/11/fragile_festival.jpeg
END:VEVENT
END:VCALENDAR