BEGIN:VCALENDAR
VERSION:2.0
PRODID:-//Comitato Disabilità Municipio X - ECPv6.15.20//NONSGML v1.0//EN
CALSCALE:GREGORIAN
METHOD:PUBLISH
X-WR-CALNAME:Comitato Disabilità Municipio X
X-ORIGINAL-URL:https://www.comitatodisabilitam10.it
X-WR-CALDESC:Eventi per Comitato Disabilità Municipio X
REFRESH-INTERVAL;VALUE=DURATION:PT1H
X-Robots-Tag:noindex
X-PUBLISHED-TTL:PT1H
BEGIN:VTIMEZONE
TZID:Europe/Rome
BEGIN:DAYLIGHT
TZOFFSETFROM:+0100
TZOFFSETTO:+0200
TZNAME:CEST
DTSTART:20240331T010000
END:DAYLIGHT
BEGIN:STANDARD
TZOFFSETFROM:+0200
TZOFFSETTO:+0100
TZNAME:CET
DTSTART:20241027T010000
END:STANDARD
BEGIN:DAYLIGHT
TZOFFSETFROM:+0100
TZOFFSETTO:+0200
TZNAME:CEST
DTSTART:20250330T010000
END:DAYLIGHT
BEGIN:STANDARD
TZOFFSETFROM:+0200
TZOFFSETTO:+0100
TZNAME:CET
DTSTART:20251026T010000
END:STANDARD
BEGIN:DAYLIGHT
TZOFFSETFROM:+0100
TZOFFSETTO:+0200
TZNAME:CEST
DTSTART:20260329T010000
END:DAYLIGHT
BEGIN:STANDARD
TZOFFSETFROM:+0200
TZOFFSETTO:+0100
TZNAME:CET
DTSTART:20261025T010000
END:STANDARD
END:VTIMEZONE
BEGIN:VEVENT
DTSTART;TZID=Europe/Rome:20251209T163000
DTEND;TZID=Europe/Rome:20251209T183000
DTSTAMP:20260420T114714
CREATED:20251203T145629Z
LAST-MODIFIED:20251203T145629Z
UID:3894-1765297800-1765305000@www.comitatodisabilitam10.it
SUMMARY:Incontro del Gruppo di Mutuo Aiuto al Polo Civico Acilia
DESCRIPTION:Il CDMX ha sposato con entusiasmo il progetto del Polo Civico Acilia\, un’iniziativa che va oltre l’essere un semplice spazio fisico. Si tratta di una vera e propria rete collaborativa dove Terzo Settore e Istituzioni lavorano insieme per costruire una comunità educante\, inclusiva e solidale. È un punto di riferimento quotidiano\, dove trovare ascolto\, attenzione e condivisione. \nIn quest’ottica di vicinanza e supporto\, il Gruppo di Mutuo Aiuto offre un’opportunità gratuita e preziosa per tutti: \n\n“Dalla cura di sé nasce la cura dell’altr@.“ \n\nQuesti incontri sono pensati per creare uno spazio sicuro dove condividere esperienze\, emozioni e difficoltà. Il mutuo aiuto è una risorsa potentissima che trasforma le vulnerabilità in forza collettiva. \nL’attività è gratuita ed è facilitata da figure professionali e associative di riferimento: \n\n\nDaria de Bernardo\, counselor professionista con indirizzo bioenergetico dell’associazione LABirinti APS. \n\n\nEmanuela Borin\, presidente del Comitato Disabilità Municipio Roma X. \n\n\nTi aspettiamo per un momento di condivisione e crescita!
URL:https://www.comitatodisabilitam10.it/eventi/incontro-del-gruppo-di-mutuo-aiuto-al-polo-civico-acilia/
LOCATION:Polo Civico Acilia\, Via Alessandro Milesi 36/A\, Roma\, RM\, 00125\, Italy
CATEGORIES:Tutti gli eventi del Comitato Disabilità Municipio X
ATTACH;FMTTYPE=image/jpeg:https://www.comitatodisabilitam10.it/wp-content/uploads/2025/12/polo_civico_acilia_gruppo_mutuo_aiuto.jpeg
ORGANIZER;CN="Comitato Disabilit%C3%A0 Municipio X APS":MAILTO:comitatodisabilitam10@gmail.com
END:VEVENT
END:VCALENDAR