BEGIN:VCALENDAR
VERSION:2.0
PRODID:-//Comitato Disabilità Municipio X - ECPv6.15.20//NONSGML v1.0//EN
CALSCALE:GREGORIAN
METHOD:PUBLISH
X-WR-CALNAME:Comitato Disabilità Municipio X
X-ORIGINAL-URL:https://www.comitatodisabilitam10.it
X-WR-CALDESC:Eventi per Comitato Disabilità Municipio X
REFRESH-INTERVAL;VALUE=DURATION:PT1H
X-Robots-Tag:noindex
X-PUBLISHED-TTL:PT1H
BEGIN:VTIMEZONE
TZID:Europe/Rome
BEGIN:DAYLIGHT
TZOFFSETFROM:+0100
TZOFFSETTO:+0200
TZNAME:CEST
DTSTART:20240331T010000
END:DAYLIGHT
BEGIN:STANDARD
TZOFFSETFROM:+0200
TZOFFSETTO:+0100
TZNAME:CET
DTSTART:20241027T010000
END:STANDARD
BEGIN:DAYLIGHT
TZOFFSETFROM:+0100
TZOFFSETTO:+0200
TZNAME:CEST
DTSTART:20250330T010000
END:DAYLIGHT
BEGIN:STANDARD
TZOFFSETFROM:+0200
TZOFFSETTO:+0100
TZNAME:CET
DTSTART:20251026T010000
END:STANDARD
BEGIN:DAYLIGHT
TZOFFSETFROM:+0100
TZOFFSETTO:+0200
TZNAME:CEST
DTSTART:20260329T010000
END:DAYLIGHT
BEGIN:STANDARD
TZOFFSETFROM:+0200
TZOFFSETTO:+0100
TZNAME:CET
DTSTART:20261025T010000
END:STANDARD
END:VTIMEZONE
BEGIN:VEVENT
DTSTART;TZID=Europe/Rome:20251213T203000
DTEND;TZID=Europe/Rome:20251213T233000
DTSTAMP:20260420T113230
CREATED:20251112T142910Z
LAST-MODIFIED:20251112T143824Z
UID:3872-1765657800-1765668600@www.comitatodisabilitam10.it
SUMMARY:CENA DI BENEFICENZA - CUORE LIBERO
DESCRIPTION:Torna la solidarietà a tavola con la Seconda Edizione della Cena di Beneficenza “Cuore Libero”! \nQuest’anno\, l’appuntamento più atteso per unire gusto e generosità si tiene a Ostia\, grazie all’impegno di un’ampia rete di organizzatori e sostenitori. È l’occasione perfetta per trascorrere una serata piacevole in compagnia\, con la consapevolezza che ogni boccone e ogni momento di festa contribuiranno a una causa importantissima. \nUn Cuore Libero per chi ha Bisogno ❤️\nL’evento “Cuore Libero” è organizzato da: \n\nGli organizzatori: Freemont Club Italia\, Stelvio Club Italia e Brand XLNT.\nCon la partecipazione di: Yarj Bartolucci A.S.D. Muay Thai Team.\nSponsor: Enoteca Il Gusto Divino e Foto Luigi Pompei.\n\nA chi andrà il ricavato?\nMetà dell’incasso della serata sarà devoluto interamente a: \n\nCOMITATO DISABILITÀ MUNICIPIO X APS: a sostegno delle attività e dei progetti per la disabilità sul territorio.\nMELAVIVO Associazione di volontariato: per dare supporto e aiuto ai pazienti affetti da melanoma e ai loro familiari.\n\nCena\, Musica e Atmosfera Magica\nLa serata sarà allietata dalla musica dal vivo\, con la voce della cantante Stefy Gamboni e l’accompagnamento del pianista Paolo Nocella alla tastiera\, garantendo un’atmosfera allegra e coinvolgente. \nIl Menù e i Prezzi\nIl Ristorante Convivia ha preparato due deliziosi menù a prezzo fisso: \n\n\n\nCategoria\nPrezzo\nMenù (Estratto)\n\n\n\n\nAdulti\n€30\nFormaggi e Salumi\, Mezze Maniche all’Amatriciana\, Arrosto con Patate\, Panettone e Pandoro\, Acqua e Vino.\n\n\nBambini\n€15\nPasta al Pomodoro\, Cotoletta di Pollo fatta in casa\, Patatine fritte\, Dolce\, Acqua e Bibite.\n\n\n\n\n📞 Non Mancare: Prenota Ora il Tuo Posto!\nPer partecipare a questa splendida iniziativa e assicurarti un posto a tavola\, la prenotazione è obbligatoria. I posti sono limitati\, non aspettare l’ultimo momento! \nRistorante Convivia – Per Prenotazioni: \n\nTel. 06.69300860\nCell. 347.7163865 / 392.8396886\n\nTi aspettiamo il 13 Dicembre per una serata dove l’unione tra la comunità e la generosità fa davvero la differenza. Partecipa e sostieni “Cuore Libero”!
URL:https://www.comitatodisabilitam10.it/eventi/cena-di-beneficenza-cuore-libero-25/
LOCATION:Ristorante Convivia\, Via dei Pescatori 71\, Rpma\, RM\, 00122\, Italy
CATEGORIES:Tutti gli eventi del Comitato Disabilità Municipio X
ATTACH;FMTTYPE=image/jpeg:https://www.comitatodisabilitam10.it/wp-content/uploads/2025/11/cena-beneficenza-cuore-libero.jpeg
END:VEVENT
END:VCALENDAR