BEGIN:VCALENDAR
VERSION:2.0
PRODID:-//Comitato Disabilità Municipio X - ECPv6.15.20//NONSGML v1.0//EN
CALSCALE:GREGORIAN
METHOD:PUBLISH
X-WR-CALNAME:Comitato Disabilità Municipio X
X-ORIGINAL-URL:https://www.comitatodisabilitam10.it
X-WR-CALDESC:Eventi per Comitato Disabilità Municipio X
REFRESH-INTERVAL;VALUE=DURATION:PT1H
X-Robots-Tag:noindex
X-PUBLISHED-TTL:PT1H
BEGIN:VTIMEZONE
TZID:Europe/Rome
BEGIN:DAYLIGHT
TZOFFSETFROM:+0100
TZOFFSETTO:+0200
TZNAME:CEST
DTSTART:20210328T010000
END:DAYLIGHT
BEGIN:STANDARD
TZOFFSETFROM:+0200
TZOFFSETTO:+0100
TZNAME:CET
DTSTART:20211031T010000
END:STANDARD
BEGIN:DAYLIGHT
TZOFFSETFROM:+0100
TZOFFSETTO:+0200
TZNAME:CEST
DTSTART:20220327T010000
END:DAYLIGHT
BEGIN:STANDARD
TZOFFSETFROM:+0200
TZOFFSETTO:+0100
TZNAME:CET
DTSTART:20221030T010000
END:STANDARD
BEGIN:DAYLIGHT
TZOFFSETFROM:+0100
TZOFFSETTO:+0200
TZNAME:CEST
DTSTART:20230326T010000
END:DAYLIGHT
BEGIN:STANDARD
TZOFFSETFROM:+0200
TZOFFSETTO:+0100
TZNAME:CET
DTSTART:20231029T010000
END:STANDARD
END:VTIMEZONE
BEGIN:VEVENT
DTSTART;TZID=Europe/Rome:20221006T173000
DTEND;TZID=Europe/Rome:20221006T193000
DTSTAMP:20260424T002900
CREATED:20220930T124330Z
LAST-MODIFIED:20220930T155824Z
UID:2766-1665077400-1665084600@www.comitatodisabilitam10.it
SUMMARY:Il Teatro a modo nostro\, laboratorio teatrale
DESCRIPTION:Organizziamo dal 6 ottobre 2022 il Laboratorio Teatrale gratuito “Il Teatro a modo nostro” diretto da Francesca Satta Flores e Lara Panizzi\, rivolto ai ragazzi e alle ragazze con disabilità del Comitato Disabilità Municipio X\, senza limiti di età. \nGli incontri si terranno ogni giovedì pomeriggio dalle ore 17.30 alle ore 19.30 presso l’Aula Magna dell’Istituto Comprensivo Viale Vega. \nIl progetto si concluderà a fine maggio con uno spettacolo i fine corso
URL:https://www.comitatodisabilitam10.it/eventi/il-teatro-a-modo-nostro-laboratorio-teatrale/
LOCATION:Aula Magna I.C. Vega\, Viale Vega 91\, Roma\, Roma\, 00122\, Italy
CATEGORIES:Tutti gli eventi del Comitato Disabilità Municipio X
ATTACH;FMTTYPE=image/jpeg:https://www.comitatodisabilitam10.it/wp-content/uploads/2022/09/teatro-modo-nostro.jpg
ORGANIZER;CN="Comitato Disabilit%C3%A0 Municipio X APS":MAILTO:comitatodisabilitam10@gmail.com
END:VEVENT
BEGIN:VEVENT
DTSTART;TZID=Europe/Rome:20221022T150000
DTEND;TZID=Europe/Rome:20221203T170000
DTSTAMP:20260424T002900
CREATED:20220930T154234Z
LAST-MODIFIED:20220930T155323Z
UID:2773-1666450800-1670086800@www.comitatodisabilitam10.it
SUMMARY:Progetto Attività ed Educazione Assistita con gli Animali (EAA)
DESCRIPTION:Organizziamo il progetto di Attività ed Educazione Assistita con gli Animali (EAA) rivolto a titolo gratuito a tutti i ragazzi e le ragazze con disabilità del Comitato Disabilità Municipio X\, senza limiti di età. \nSi prevedono complessivi 14 sessioni di gruppo\, con frequenza settimanale\, il sabato pomeriggio a partire dal 22 ottobre al 3 dicembre dalle 15:00 alle 17:00 presso il Centro Specializzato ASI per persone con disabilità e loro famiglie\, in Via Appia Nuova 1245 all’interno dell’ippodromo di Capannelle. \nScarica la scheda del progetto.
URL:https://www.comitatodisabilitam10.it/eventi/progetto-attivita-ed-educazione-assistita-con-gli-animali-eaa/
LOCATION:Centro Specializzato ASI\, Via Appia Nuova\, 1245\, Roma\, RM\, 00178\, Italia
CATEGORIES:Tutti gli eventi del Comitato Disabilità Municipio X
ATTACH;FMTTYPE=image/jpeg:https://www.comitatodisabilitam10.it/wp-content/uploads/2022/09/educazione-assistita-animali.jpg
ORGANIZER;CN="Comitato Disabilit%C3%A0 Municipio X APS":MAILTO:comitatodisabilitam10@gmail.com
END:VEVENT
END:VCALENDAR