BEGIN:VCALENDAR
VERSION:2.0
PRODID:-//Comitato Disabilità Municipio X - ECPv6.15.20//NONSGML v1.0//EN
CALSCALE:GREGORIAN
METHOD:PUBLISH
X-WR-CALNAME:Comitato Disabilità Municipio X
X-ORIGINAL-URL:https://www.comitatodisabilitam10.it
X-WR-CALDESC:Eventi per Comitato Disabilità Municipio X
REFRESH-INTERVAL;VALUE=DURATION:PT1H
X-Robots-Tag:noindex
X-PUBLISHED-TTL:PT1H
BEGIN:VTIMEZONE
TZID:Europe/Rome
BEGIN:DAYLIGHT
TZOFFSETFROM:+0100
TZOFFSETTO:+0200
TZNAME:CEST
DTSTART:20220327T010000
END:DAYLIGHT
BEGIN:STANDARD
TZOFFSETFROM:+0200
TZOFFSETTO:+0100
TZNAME:CET
DTSTART:20221030T010000
END:STANDARD
BEGIN:DAYLIGHT
TZOFFSETFROM:+0100
TZOFFSETTO:+0200
TZNAME:CEST
DTSTART:20230326T010000
END:DAYLIGHT
BEGIN:STANDARD
TZOFFSETFROM:+0200
TZOFFSETTO:+0100
TZNAME:CET
DTSTART:20231029T010000
END:STANDARD
BEGIN:DAYLIGHT
TZOFFSETFROM:+0100
TZOFFSETTO:+0200
TZNAME:CEST
DTSTART:20240331T010000
END:DAYLIGHT
BEGIN:STANDARD
TZOFFSETFROM:+0200
TZOFFSETTO:+0100
TZNAME:CET
DTSTART:20241027T010000
END:STANDARD
END:VTIMEZONE
BEGIN:VEVENT
DTSTART;VALUE=DATE:20230807
DTEND;VALUE=DATE:20230808
DTSTAMP:20260423T025907
CREATED:20230803T071741Z
LAST-MODIFIED:20230803T071741Z
UID:3327-1691366400-1691452799@www.comitatodisabilitam10.it
SUMMARY:SURFIAMO
DESCRIPTION:Il 07 Agosto 2023\, presso lo stabilimento Peppino a Mare esperti surfisti di OSTIA SURF ADAPTIVE saranno a disposizione del Comitato Disabilità Municipio X per dare la possibilità a tutti di vivere un’esperienza unica sulla tavola da Surf. \nUna collaborazione voluta da entrambe le associazioni per “abbattere” sempre più i muri dell’impossibile.
URL:https://www.comitatodisabilitam10.it/eventi/surfiamo/
LOCATION:Peppino a Mare\, Lungomare Amerigo Vespucci 98\, Roma\, RM\, 00122\, Italia
CATEGORIES:Tutti gli eventi del Comitato Disabilità Municipio X
ATTACH;FMTTYPE=image/jpeg:https://www.comitatodisabilitam10.it/wp-content/uploads/2023/08/SURFIAMO-AGOSTO-2023.jpeg
END:VEVENT
BEGIN:VEVENT
DTSTART;VALUE=DATE:20230817
DTEND;VALUE=DATE:20230818
DTSTAMP:20260423T025907
CREATED:20230803T071930Z
LAST-MODIFIED:20230803T072259Z
UID:3330-1692230400-1692316799@www.comitatodisabilitam10.it
SUMMARY:SURFIAMO
DESCRIPTION:Il 17 Agosto 2023\, presso lo stabilimento Peppino a Mare esperti surfisti di OSTIA SURF ADAPTIVE saranno a disposizione del Comitato Disabilità Municipio X per dare la possibilità a tutti di vivere un’esperienza unica sulla tavola da Surf. \nUna collaborazione voluta da entrambe le associazioni per “abbattere” sempre più i muri dell’impossibile.
URL:https://www.comitatodisabilitam10.it/eventi/surfiamo-2/
LOCATION:Peppino a Mare\, Lungomare Amerigo Vespucci 98\, Roma\, RM\, 00122\, Italia
CATEGORIES:Tutti gli eventi del Comitato Disabilità Municipio X
ATTACH;FMTTYPE=image/jpeg:https://www.comitatodisabilitam10.it/wp-content/uploads/2023/08/SURFIAMO-AGOSTO-2023.jpeg
END:VEVENT
BEGIN:VEVENT
DTSTART;VALUE=DATE:20230821
DTEND;VALUE=DATE:20230822
DTSTAMP:20260423T025907
CREATED:20230803T072053Z
LAST-MODIFIED:20230803T072053Z
UID:3332-1692576000-1692662399@www.comitatodisabilitam10.it
SUMMARY:SURFIAMO
DESCRIPTION:Il 21 Agosto 2023\, presso lo stabilimento Peppino a Mare esperti surfisti di OSTIA SURF ADAPTIVE saranno a disposizione del Comitato Disabilità Municipio X per dare la possibilità a tutti di vivere un’esperienza unica sulla tavola da Surf. \nUna collaborazione voluta da entrambe le associazioni per “abbattere” sempre più i muri dell’impossibile.
URL:https://www.comitatodisabilitam10.it/eventi/surfiamo-3/
LOCATION:Peppino a Mare\, Lungomare Amerigo Vespucci 98\, Roma\, RM\, 00122\, Italia
CATEGORIES:Tutti gli eventi del Comitato Disabilità Municipio X
ATTACH;FMTTYPE=image/jpeg:https://www.comitatodisabilitam10.it/wp-content/uploads/2023/08/SURFIAMO-AGOSTO-2023.jpeg
END:VEVENT
BEGIN:VEVENT
DTSTART;VALUE=DATE:20230828
DTEND;VALUE=DATE:20230829
DTSTAMP:20260423T025907
CREATED:20230803T072220Z
LAST-MODIFIED:20230803T072220Z
UID:3334-1693180800-1693267199@www.comitatodisabilitam10.it
SUMMARY:SURFIAMO
DESCRIPTION:Il 28 Agosto 2023\, presso lo stabilimento Peppino a Mare esperti surfisti di OSTIA SURF ADAPTIVE saranno a disposizione del Comitato Disabilità Municipio X per dare la possibilità a tutti di vivere un’esperienza unica sulla tavola da Surf. \nUna collaborazione voluta da entrambe le associazioni per “abbattere” sempre più i muri dell’impossibile.
URL:https://www.comitatodisabilitam10.it/eventi/surfiamo-4/
LOCATION:Peppino a Mare\, Lungomare Amerigo Vespucci 98\, Roma\, RM\, 00122\, Italia
CATEGORIES:Tutti gli eventi del Comitato Disabilità Municipio X
ATTACH;FMTTYPE=image/jpeg:https://www.comitatodisabilitam10.it/wp-content/uploads/2023/08/SURFIAMO-AGOSTO-2023.jpeg
END:VEVENT
END:VCALENDAR