BEGIN:VCALENDAR
VERSION:2.0
PRODID:-//Comitato Disabilità Municipio X - ECPv6.15.20//NONSGML v1.0//EN
CALSCALE:GREGORIAN
METHOD:PUBLISH
X-WR-CALNAME:Comitato Disabilità Municipio X
X-ORIGINAL-URL:https://www.comitatodisabilitam10.it
X-WR-CALDESC:Eventi per Comitato Disabilità Municipio X
REFRESH-INTERVAL;VALUE=DURATION:PT1H
X-Robots-Tag:noindex
X-PUBLISHED-TTL:PT1H
BEGIN:VTIMEZONE
TZID:Europe/Rome
BEGIN:DAYLIGHT
TZOFFSETFROM:+0100
TZOFFSETTO:+0200
TZNAME:CEST
DTSTART:20220327T010000
END:DAYLIGHT
BEGIN:STANDARD
TZOFFSETFROM:+0200
TZOFFSETTO:+0100
TZNAME:CET
DTSTART:20221030T010000
END:STANDARD
BEGIN:DAYLIGHT
TZOFFSETFROM:+0100
TZOFFSETTO:+0200
TZNAME:CEST
DTSTART:20230326T010000
END:DAYLIGHT
BEGIN:STANDARD
TZOFFSETFROM:+0200
TZOFFSETTO:+0100
TZNAME:CET
DTSTART:20231029T010000
END:STANDARD
BEGIN:DAYLIGHT
TZOFFSETFROM:+0100
TZOFFSETTO:+0200
TZNAME:CEST
DTSTART:20240331T010000
END:DAYLIGHT
BEGIN:STANDARD
TZOFFSETFROM:+0200
TZOFFSETTO:+0100
TZNAME:CET
DTSTART:20241027T010000
END:STANDARD
END:VTIMEZONE
BEGIN:VEVENT
DTSTART;TZID=Europe/Rome:20230917T080000
DTEND;TZID=Europe/Rome:20230917T090000
DTSTAMP:20260423T004948
CREATED:20230912T131613Z
LAST-MODIFIED:20230912T131613Z
UID:3350-1694937600-1694941200@www.comitatodisabilitam10.it
SUMMARY:CACCIA AL TESORO IN BICI
DESCRIPTION:Il 17 settembre si terrà la VII edizione della Caccia al Tesoro Ciclosolidale di Ostia\, organizzata da Ostia in Bici e patrocinata dal X Municipio di Roma Capitale\, per celebrare la Settimana Europea della Mobilità. \nLe quote delle iscrizioni all’evento saranno devolute in beneficenza al nostro Comitato. \nCi saranno premi per i vincitori! Dettagli ed iscrizioni a questa pagina. \nPartecipate numerosi!!!
URL:https://www.comitatodisabilitam10.it/eventi/caccia-al-tesoro-in-bici/
LOCATION:Giardino Paolo Orlando\, Via dei Pallottini\, 00122 Lido di Ostia di Roma RM\, Roma\, RM\, 00122\, Italia
CATEGORIES:Tutti gli eventi del Comitato Disabilità Municipio X
ATTACH;FMTTYPE=image/jpeg:https://www.comitatodisabilitam10.it/wp-content/uploads/2023/09/caccia_tesoro.jpeg
END:VEVENT
END:VCALENDAR