BEGIN:VCALENDAR
VERSION:2.0
PRODID:-//Comitato Disabilità Municipio X - ECPv6.15.20//NONSGML v1.0//EN
CALSCALE:GREGORIAN
METHOD:PUBLISH
X-WR-CALNAME:Comitato Disabilità Municipio X
X-ORIGINAL-URL:https://www.comitatodisabilitam10.it
X-WR-CALDESC:Eventi per Comitato Disabilità Municipio X
REFRESH-INTERVAL;VALUE=DURATION:PT1H
X-Robots-Tag:noindex
X-PUBLISHED-TTL:PT1H
BEGIN:VTIMEZONE
TZID:Europe/Rome
BEGIN:DAYLIGHT
TZOFFSETFROM:+0100
TZOFFSETTO:+0200
TZNAME:CEST
DTSTART:20230326T010000
END:DAYLIGHT
BEGIN:STANDARD
TZOFFSETFROM:+0200
TZOFFSETTO:+0100
TZNAME:CET
DTSTART:20231029T010000
END:STANDARD
BEGIN:DAYLIGHT
TZOFFSETFROM:+0100
TZOFFSETTO:+0200
TZNAME:CEST
DTSTART:20240331T010000
END:DAYLIGHT
BEGIN:STANDARD
TZOFFSETFROM:+0200
TZOFFSETTO:+0100
TZNAME:CET
DTSTART:20241027T010000
END:STANDARD
BEGIN:DAYLIGHT
TZOFFSETFROM:+0100
TZOFFSETTO:+0200
TZNAME:CEST
DTSTART:20250330T010000
END:DAYLIGHT
BEGIN:STANDARD
TZOFFSETFROM:+0200
TZOFFSETTO:+0100
TZNAME:CET
DTSTART:20251026T010000
END:STANDARD
END:VTIMEZONE
BEGIN:VEVENT
DTSTART;TZID=Europe/Rome:20240618T193000
DTEND;TZID=Europe/Rome:20240618T223000
DTSTAMP:20260422T015154
CREATED:20240518T130925Z
LAST-MODIFIED:20240518T144951Z
UID:3546-1718739000-1718749800@www.comitatodisabilitam10.it
SUMMARY:CANTATTORI
DESCRIPTION:Evento gratuito musicale e teatrale che si terrà presso il teatro Don Mario Torregrossa\, DOMMA. \nRingraziamo per il supporto l’ ASSOCIAZIONE DONATORI VOLONTARI Amici del Serv. Trasfusionale Ospedale GRASSI di Ostia ed in collaborazione con il Centro di formazione teatrale “Associazione culturale Ile Flottante” rappresentata da Francesca Satta Flores e Lara Panizzi e con il Maestro di coro Daniele Adriani.
URL:https://www.comitatodisabilitam10.it/eventi/cantattori/
LOCATION:Teatro don Mario Torregrossa\, Via di Macchia Saponara\, 106\, Roma\, RM\, 00125\, Italia
CATEGORIES:Tutti gli eventi del Comitato Disabilità Municipio X
ATTACH;FMTTYPE=image/jpeg:https://www.comitatodisabilitam10.it/wp-content/uploads/2024/05/CANTATTORI.jpeg
ORGANIZER;CN="Comitato Disabilit%C3%A0 Municipio X APS":MAILTO:comitatodisabilitam10@gmail.com
END:VEVENT
BEGIN:VEVENT
DTSTART;TZID=Europe/Rome:20240622T100000
DTEND;TZID=Europe/Rome:20240622T180000
DTSTAMP:20260422T015154
CREATED:20240621T150044Z
LAST-MODIFIED:20240621T150622Z
UID:3567-1719050400-1719079200@www.comitatodisabilitam10.it
SUMMARY:DIVERSAMENTE DIVERTENTE
DESCRIPTION:Una giornata all’insegna del divertimento in un ambiente di apprendimento inclusivo\, all’aria aperta e in totale sicurezza per conoscere gli animali e per conoscerci tutti meglio! \nL’inclusione è’ un processo continuo che parte da cio’ che si può fare con quello che abbiamo ed è con gli animali ed uno staff preparato in un giardino zoologico e la sua Biodiversità che si vuole dare un valore alle differenze\, divertendosi insieme senza barriere. \nIL 22 GIUGNO AIUTACI ANCHE TU! \nZoomarine devolve una parte del biglietto acquistato alle associazioni che parteciperanno all’evento offrendo alle associazioni partecipanti: \n\ningresso omaggio ai ragazzi iscritti alle associazioni + un’esperienza con gli animali\ningresso € 10 per ogni familiare\, amico e/o accompagnatore dei ragazzi con disabilità\n\nIl Comitato Disabilità Municipio X APS sarà presente anche con uno stand esponendo i nostri lavori manuali ed artistici \nDal 2021 Zoomarine ha devoluto circa 34.000\,00 euro suddivisi tra tutte le numerose associazioni partecipanti. \nPranzo al sacco e in alternativa presso il ristorante interno (apertura 11:30 – 15:00) al costo di € 10 escluse bevande solo per chi indossa il braccialetto di “diversamente divertente”.
URL:https://www.comitatodisabilitam10.it/eventi/diversamente-divertente/
LOCATION:Zoomarine\, Via dei Romagnoli\, Torvaianica\, RM\, 00071\, Italia
CATEGORIES:Tutti gli eventi del Comitato Disabilità Municipio X
ATTACH;FMTTYPE=image/jpeg:https://www.comitatodisabilitam10.it/wp-content/uploads/2024/06/DIVERSAMENTE_DIVERTENTE.jpeg
ORGANIZER;CN="Comitato Disabilit%C3%A0 Municipio X APS":MAILTO:comitatodisabilitam10@gmail.com
END:VEVENT
END:VCALENDAR