BEGIN:VCALENDAR
VERSION:2.0
PRODID:-//Comitato Disabilità Municipio X - ECPv6.15.20//NONSGML v1.0//EN
CALSCALE:GREGORIAN
METHOD:PUBLISH
X-WR-CALNAME:Comitato Disabilità Municipio X
X-ORIGINAL-URL:https://www.comitatodisabilitam10.it
X-WR-CALDESC:Eventi per Comitato Disabilità Municipio X
REFRESH-INTERVAL;VALUE=DURATION:PT1H
X-Robots-Tag:noindex
X-PUBLISHED-TTL:PT1H
BEGIN:VTIMEZONE
TZID:Europe/Rome
BEGIN:DAYLIGHT
TZOFFSETFROM:+0100
TZOFFSETTO:+0200
TZNAME:CEST
DTSTART:20240331T010000
END:DAYLIGHT
BEGIN:STANDARD
TZOFFSETFROM:+0200
TZOFFSETTO:+0100
TZNAME:CET
DTSTART:20241027T010000
END:STANDARD
BEGIN:DAYLIGHT
TZOFFSETFROM:+0100
TZOFFSETTO:+0200
TZNAME:CEST
DTSTART:20250330T010000
END:DAYLIGHT
BEGIN:STANDARD
TZOFFSETFROM:+0200
TZOFFSETTO:+0100
TZNAME:CET
DTSTART:20251026T010000
END:STANDARD
BEGIN:DAYLIGHT
TZOFFSETFROM:+0100
TZOFFSETTO:+0200
TZNAME:CEST
DTSTART:20260329T010000
END:DAYLIGHT
BEGIN:STANDARD
TZOFFSETFROM:+0200
TZOFFSETTO:+0100
TZNAME:CET
DTSTART:20261025T010000
END:STANDARD
END:VTIMEZONE
BEGIN:VEVENT
DTSTART;TZID=Europe/Rome:20250302T143000
DTEND;TZID=Europe/Rome:20250302T163000
DTSTAMP:20260421T064043
CREATED:20250227T170041Z
LAST-MODIFIED:20250227T170200Z
UID:3724-1740925800-1740933000@www.comitatodisabilitam10.it
SUMMARY:SUPERHEROES FOR CHILDREN - Il Carnevale dei veri Supereroi
DESCRIPTION:SuperHeroes for Children è il carnevale organizzato a favore del Comitato Disabilità Municipio X APS. \nGrazie agli strabilianti poteri dei SUPEREROI e soprattutto alla loro voglia di lottare per tutti noi\, vi aspettiamo a Piazza Anco Marzio per un pomeriggio all’insegna del divertimento con:  \n\nSuperHeroes For Children\nspazzolinooo\nsupereroisenzasuperpoteri\nnikart87facepainting\nTruccabimbi\nPalloncini\nSuperEroi\nPrincipesse\nMascotte\n\nA conclusione della festa Passeggiata finale al Pontile TUTTI IN MASCHERA \nLa festa si chiuderà in bellezza: tutti in maschera per la passeggiata finale al Pontile! \nUn grazie speciale ai nostri sponsor che hanno reso possibile la raccolta fondi a favore del nostro Comitato per questo evento!
URL:https://www.comitatodisabilitam10.it/eventi/superheroes-for-children-il-carnevale-dei-veri-supereroi/
LOCATION:Piazzetta pedonale Anco Marzio\, Piazza Anco Marzio\, Roma\, IT\, 00122\, Italy
CATEGORIES:Tutti gli eventi del Comitato Disabilità Municipio X
ATTACH;FMTTYPE=image/jpeg:https://www.comitatodisabilitam10.it/wp-content/uploads/2025/02/carnevale_2025.jpeg
ORGANIZER;CN="Comitato Disabilit%C3%A0 Municipio X APS":MAILTO:comitatodisabilitam10@gmail.com
END:VEVENT
BEGIN:VEVENT
DTSTART;TZID=Europe/Rome:20250330T100000
DTEND;TZID=Europe/Rome:20250330T133000
DTSTAMP:20260421T064043
CREATED:20250327T100530Z
LAST-MODIFIED:20250327T100530Z
UID:3754-1743328800-1743341400@www.comitatodisabilitam10.it
SUMMARY:Mostra fotografica "AIUTAMI A CRESCERE"
DESCRIPTION:Il 30 marzo rappresenta un’importante occasione per approfondire e sensibilizzare sul tema della prematurità\, una realtà che coinvolge molte famiglie e che merita attenzione e sostegno. \nQuesta speciale mostra nasce nell’ambito della Giornata Mondiale della Prematurità\, celebrata ogni anno il 17 novembre\, ed è realizzata in collaborazione con il Policlinico Universitario A. Gemelli IRCCS e l’associazione GENITIN ONLUS. \nAttraverso l’obiettivo di una fotografa\, la nostra vicepresidente Pamela Pompei\, madre di due gemelli nati alla 27ª settimana\, l’esposizione racconta le difficoltà che i bambini prematuri affrontano sin dai primi giorni di vita\, ma soprattutto la loro incredibile determinazione nel crescere e superare ogni ostacolo. \nUn evento che emoziona\, informa e invita a una riflessione profonda su un tema di grande importanza. \nVi aspettiamo per condividere insieme questa toccante testimonianza di forza e speranza!
URL:https://www.comitatodisabilitam10.it/eventi/mostra-fotografica-aiutami-a-crescere-2/
LOCATION:Parrocchia di San Leonardo da Porto Maurizio\, Via Ludovico Antomelli\, 1\, Roma\, RM\, 00125
CATEGORIES:Tutti gli eventi del Comitato Disabilità Municipio X
ATTACH;FMTTYPE=image/jpeg:https://www.comitatodisabilitam10.it/wp-content/uploads/2024/11/AIUTAMI_A_CRESCERE-1.jpeg
ORGANIZER;CN="Comitato Disabilit%C3%A0 Municipio X APS":MAILTO:comitatodisabilitam10@gmail.com
END:VEVENT
END:VCALENDAR