BEGIN:VCALENDAR
VERSION:2.0
PRODID:-//Comitato Disabilità Municipio X - ECPv6.15.20//NONSGML v1.0//EN
CALSCALE:GREGORIAN
METHOD:PUBLISH
X-WR-CALNAME:Comitato Disabilità Municipio X
X-ORIGINAL-URL:https://www.comitatodisabilitam10.it
X-WR-CALDESC:Eventi per Comitato Disabilità Municipio X
REFRESH-INTERVAL;VALUE=DURATION:PT1H
X-Robots-Tag:noindex
X-PUBLISHED-TTL:PT1H
BEGIN:VTIMEZONE
TZID:Europe/Rome
BEGIN:DAYLIGHT
TZOFFSETFROM:+0100
TZOFFSETTO:+0200
TZNAME:CEST
DTSTART:20240331T010000
END:DAYLIGHT
BEGIN:STANDARD
TZOFFSETFROM:+0200
TZOFFSETTO:+0100
TZNAME:CET
DTSTART:20241027T010000
END:STANDARD
BEGIN:DAYLIGHT
TZOFFSETFROM:+0100
TZOFFSETTO:+0200
TZNAME:CEST
DTSTART:20250330T010000
END:DAYLIGHT
BEGIN:STANDARD
TZOFFSETFROM:+0200
TZOFFSETTO:+0100
TZNAME:CET
DTSTART:20251026T010000
END:STANDARD
BEGIN:DAYLIGHT
TZOFFSETFROM:+0100
TZOFFSETTO:+0200
TZNAME:CEST
DTSTART:20260329T010000
END:DAYLIGHT
BEGIN:STANDARD
TZOFFSETFROM:+0200
TZOFFSETTO:+0100
TZNAME:CET
DTSTART:20261025T010000
END:STANDARD
END:VTIMEZONE
BEGIN:VEVENT
DTSTART;TZID=Europe/Rome:20250928T103000
DTEND;TZID=Europe/Rome:20250928T190000
DTSTAMP:20260421T075946
CREATED:20250908T131315Z
LAST-MODIFIED:20250908T131315Z
UID:3825-1759055400-1759086000@www.comitatodisabilitam10.it
SUMMARY:FESTA DI FINE ESTATE
DESCRIPTION:Abbiamo il piacere di annunciare la Festa di Fine Estate 2025\, un evento esclusivo dedicato a tutti i suoi soci. \nL’appuntamento è per domenica 28 settembre 2025\, dalle ore 10:30 alle 19:00. \nL’evento rappresenta un’occasione per incontrarsi e condividere una giornata all’insegna della convivialità e della socializzazione. Le famiglie avranno modo di trascorrere del tempo insieme\, in una cornice incantevole: lo spazio messo a disposizione dall’associazione “La Farfalla” all’interno del Parco Pianeta H\, situato in Via di Castel Fusano 152\, Ostia Antica\, Roma. \nVi aspettiamo numerosi per celebrare insieme la fine dell’estate\, gustando specialità preparate con cura e passione.
URL:https://www.comitatodisabilitam10.it/eventi/festa-di-fine-estate/
LOCATION:La Farfalla Pianeta H\, Via di castel fusano 152\, Roma\, Roma\, 00124
CATEGORIES:Tutti gli eventi del Comitato Disabilità Municipio X
ATTACH;FMTTYPE=image/jpeg:https://www.comitatodisabilitam10.it/wp-content/uploads/2025/09/Festa_fine_estate.jpeg
ORGANIZER;CN="Comitato Disabilit%C3%A0 Municipio X APS":MAILTO:comitatodisabilitam10@gmail.com
END:VEVENT
END:VCALENDAR