BEGIN:VCALENDAR
VERSION:2.0
PRODID:-//Comitato Disabilità Municipio X - ECPv6.15.20//NONSGML v1.0//EN
CALSCALE:GREGORIAN
METHOD:PUBLISH
X-ORIGINAL-URL:https://www.comitatodisabilitam10.it
X-WR-CALDESC:Eventi per Comitato Disabilità Municipio X
REFRESH-INTERVAL;VALUE=DURATION:PT1H
X-Robots-Tag:noindex
X-PUBLISHED-TTL:PT1H
BEGIN:VTIMEZONE
TZID:Europe/Rome
BEGIN:DAYLIGHT
TZOFFSETFROM:+0100
TZOFFSETTO:+0200
TZNAME:CEST
DTSTART:20210328T010000
END:DAYLIGHT
BEGIN:STANDARD
TZOFFSETFROM:+0200
TZOFFSETTO:+0100
TZNAME:CET
DTSTART:20211031T010000
END:STANDARD
BEGIN:DAYLIGHT
TZOFFSETFROM:+0100
TZOFFSETTO:+0200
TZNAME:CEST
DTSTART:20220327T010000
END:DAYLIGHT
BEGIN:STANDARD
TZOFFSETFROM:+0200
TZOFFSETTO:+0100
TZNAME:CET
DTSTART:20221030T010000
END:STANDARD
BEGIN:DAYLIGHT
TZOFFSETFROM:+0100
TZOFFSETTO:+0200
TZNAME:CEST
DTSTART:20230326T010000
END:DAYLIGHT
BEGIN:STANDARD
TZOFFSETFROM:+0200
TZOFFSETTO:+0100
TZNAME:CET
DTSTART:20231029T010000
END:STANDARD
END:VTIMEZONE
BEGIN:VEVENT
DTSTART;TZID=Europe/Rome:20220201T160000
DTEND;TZID=Europe/Rome:20220731T170000
DTSTAMP:20260424T015825
CREATED:20220416T085834Z
LAST-MODIFIED:20220604T122043Z
UID:2556-1643731200-1659286800@www.comitatodisabilitam10.it
SUMMARY:Laboratorio di Musicoterapia
DESCRIPTION:Laboratorio di musicaterapia gratuito con la Dott.ssa Roberta Paolella\, rivolto ai/alle nostri/e ragazzi/e con disabilità\, senza limiti di età.  \nQuando: il Martedì pomeriggio \nDove: presso l’Istituto Tecnico Industriale Michael Faraday \nI partecipanti saranno suddivisi in 2 turni: \n\n1° turno ore 16.00\n2° turno ore 17.00.\n\nL’attività tiene conto delle disposizioni relative al Covid-19. \nhttps://www.comitatodisabilitam10.it/wp-content/uploads/2022/04/CDMX-Musicoterapia.mp4\n 
URL:https://www.comitatodisabilitam10.it/eventi/laboratorio-di-musicoterapia/
LOCATION:Istituto Tecnico Industriale Michael Faraday\, Via Capo Sperone\, 52\, Ostia Lido\, RM\, 00122\, Italia
CATEGORIES:Tutti gli eventi del Comitato Disabilità Municipio X
ORGANIZER;CN="Comitato Disabilit%C3%A0 Municipio X APS":MAILTO:comitatodisabilitam10@gmail.com
END:VEVENT
BEGIN:VEVENT
DTSTART;TZID=Europe/Rome:20220601T080000
DTEND;TZID=Europe/Rome:20220731T190000
DTSTAMP:20260424T015825
CREATED:20220607T082616Z
LAST-MODIFIED:20220607T082616Z
UID:2643-1654070400-1659294000@www.comitatodisabilitam10.it
SUMMARY:UN'ESTATE AL MARE
DESCRIPTION:Lo stabilimento balneare Battistini\, in collaborazione con il Comitato Disabilitá Municipio X\, organizza “UN’ESTATE AL MARE“\, un progetto dedicato ai nostri ragazzi ed alle nostre ragazze carrozzati che non possono accedere alla spiaggia se non appositamente strutturata ed organizzata. \nTutti i dettagli sono nella locandina sotto\, che puoi anche scaricare da qui.
URL:https://www.comitatodisabilitam10.it/eventi/unestate-al-mare/
LOCATION:Stabilimento Battistini\, Lungomare Paolo Toscanelli\, 63\, Lido di Ostia\, RM\, 00122\, Italia
CATEGORIES:Tutti gli eventi del Comitato Disabilità Municipio X
END:VEVENT
BEGIN:VEVENT
DTSTART;TZID=Europe/Rome:20220607T163000
DTEND;TZID=Europe/Rome:20220607T190000
DTSTAMP:20260424T015825
CREATED:20220604T123450Z
LAST-MODIFIED:20220604T123630Z
UID:2623-1654619400-1654628400@www.comitatodisabilitam10.it
SUMMARY:COREOGRAFIE\, saggio degli Allievi di ARTE TERAPIA MUSICALE
DESCRIPTION:
URL:https://www.comitatodisabilitam10.it/eventi/coreografie-saggio-degli-allievi-di-arte-terapia-musicale/
LOCATION:Istituto Tecnico Industriale Michael Faraday\, Via Capo Sperone\, 52\, Ostia Lido\, RM\, 00122\, Italia
CATEGORIES:Tutti gli eventi del Comitato Disabilità Municipio X
END:VEVENT
BEGIN:VEVENT
DTSTART;TZID=Europe/Rome:20220617T100000
DTEND;TZID=Europe/Rome:20220619T223000
DTSTAMP:20260424T015825
CREATED:20220607T075602Z
LAST-MODIFIED:20220607T081436Z
UID:2634-1655460000-1655677800@www.comitatodisabilitam10.it
SUMMARY:FESTA DEL MARE
DESCRIPTION:Presso il Borghetto dei Pescatori di Ostia\, si terrà la “FESTA DEL MARE” alla quale siamo stati invitati a partecipare e nbella quale avremo a disposizione uno stand tutto nostro! \nVI ASPETTIAMO CON TANTE COSE BELLE!!! \n 
URL:https://www.comitatodisabilitam10.it/eventi/festa-del-mare/
LOCATION:Borghetto dei Pescatori\, Borghetto dei pescatori\, Ostia Lido\, RM\, 00122\, Italia
CATEGORIES:Tutti gli eventi del Comitato Disabilità Municipio X
END:VEVENT
BEGIN:VEVENT
DTSTART;TZID=Europe/Rome:20220629T100000
DTEND;TZID=Europe/Rome:20220710T233000
DTSTAMP:20260424T015825
CREATED:20220704T054844Z
LAST-MODIFIED:20220704T065657Z
UID:2706-1656496800-1657495800@www.comitatodisabilitam10.it
SUMMARY:Libri e non solo
DESCRIPTION:Il 29 giugno 2022 è iniziata in Piazza Anco Marzio ad Ostia la manifestazione “Libri e non solo”\, una rassegna culturale che si svolgerà tutti i giorni dal 29 giugno e fino al 10 luglio 2022 e che ci vedrà partecipi con un nostro stand dove proporremo i lavoretti fatti dai nostri ragazzi di cui un assaggio nel quadretto sottostante.  \nTutto il ricavato\, ovviamente\, andrà a sostegno del nostro Comitato. \nSaremo presenti nella nostra postazione nei seguenti giorni ed orari: \n\nGiorni: 29 giugno / 2\, 3\, 9\, 10 Luglio\, ore 10:00/24:00\n Giorni: 30 giugno / 1\, 4\, 5\, 6\, 7\, 8 Luglio\, ore 17:00/24:00\n\n  \nVENITECI A TROVARE VI ASPETTIAMO!!
URL:https://www.comitatodisabilitam10.it/eventi/libri-e-non-solo/
LOCATION:Piazzetta pedonale Anco Marzio\, Piazza Anco Marzio\, Roma\, IT\, 00122\, Italy
CATEGORIES:Tutti gli eventi del Comitato Disabilità Municipio X
ATTACH;FMTTYPE=image/jpeg:https://www.comitatodisabilitam10.it/wp-content/uploads/2022/07/libri_e_non_solo.jpg
END:VEVENT
END:VCALENDAR