BEGIN:VCALENDAR
VERSION:2.0
PRODID:-//Comitato Disabilità Municipio X - ECPv6.15.20//NONSGML v1.0//EN
CALSCALE:GREGORIAN
METHOD:PUBLISH
X-WR-CALNAME:Comitato Disabilità Municipio X
X-ORIGINAL-URL:https://www.comitatodisabilitam10.it
X-WR-CALDESC:Eventi per Comitato Disabilità Municipio X
REFRESH-INTERVAL;VALUE=DURATION:PT1H
X-Robots-Tag:noindex
X-PUBLISHED-TTL:PT1H
BEGIN:VTIMEZONE
TZID:Europe/Rome
BEGIN:DAYLIGHT
TZOFFSETFROM:+0100
TZOFFSETTO:+0200
TZNAME:CEST
DTSTART:20220327T010000
END:DAYLIGHT
BEGIN:STANDARD
TZOFFSETFROM:+0200
TZOFFSETTO:+0100
TZNAME:CET
DTSTART:20221030T010000
END:STANDARD
BEGIN:DAYLIGHT
TZOFFSETFROM:+0100
TZOFFSETTO:+0200
TZNAME:CEST
DTSTART:20230326T010000
END:DAYLIGHT
BEGIN:STANDARD
TZOFFSETFROM:+0200
TZOFFSETTO:+0100
TZNAME:CET
DTSTART:20231029T010000
END:STANDARD
BEGIN:DAYLIGHT
TZOFFSETFROM:+0100
TZOFFSETTO:+0200
TZNAME:CEST
DTSTART:20240331T010000
END:DAYLIGHT
BEGIN:STANDARD
TZOFFSETFROM:+0200
TZOFFSETTO:+0100
TZNAME:CET
DTSTART:20241027T010000
END:STANDARD
BEGIN:DAYLIGHT
TZOFFSETFROM:+0100
TZOFFSETTO:+0200
TZNAME:CEST
DTSTART:20250330T010000
END:DAYLIGHT
BEGIN:STANDARD
TZOFFSETFROM:+0200
TZOFFSETTO:+0100
TZNAME:CET
DTSTART:20251026T010000
END:STANDARD
END:VTIMEZONE
BEGIN:VEVENT
DTSTART;TZID=Europe/Rome:20231017T160000
DTEND;TZID=Europe/Rome:20240531T183000
DTSTAMP:20260422T014214
CREATED:20230929T124821Z
LAST-MODIFIED:20240311T171330Z
UID:3383-1697558400-1717180200@www.comitatodisabilitam10.it
SUMMARY:CREscIAMO INSIEME - ogni Martedì (gratuito)
DESCRIPTION:Progetto di ARTETERAPIA CREATIVA \nIl progetto ha la finalità di creare nuove strategie di coinvolgimento e partecipazione\, partendo dalla creatività in ogni aspetto dell’agire quotidiano. \nAttraverso attività di produzione creativa si mira a far emergere più potenzialità inespresse possibili e a promuovere progetti che favoriscano: lo stare insieme\, la condivisione\, l’agire in autonomia sentendosi parte del gruppo\, lo sviluppo delle potenzialità umane (cognitive\, relazionali\, emotive\, affettive)\, la consapevolezza e una maggior conoscenza di sé mediante la pratica espressiva\, l’osservazione\, l’attivazione e la scoperta delle proprie risorse. \nIl laboratorio è gratuito e si svolgerà ogni martedì pomeriggio presso l’ I.T.I.S. M. Faraday. Sono previsti due gruppi: \n\n1° gruppo: dalle 16.00 alle 17.15\n2° gruppo: dalle 17.15 alle 18.00 \n\nScarica il pdf per tutte le info.
URL:https://www.comitatodisabilitam10.it/eventi/cresciamo-insieme/
LOCATION:Istituto Tecnico Industriale Michael Faraday\, Via Capo Sperone\, 52\, Ostia Lido\, RM\, 00122\, Italia
CATEGORIES:Tutti gli eventi del Comitato Disabilità Municipio X
ATTACH;FMTTYPE=image/jpeg:https://www.comitatodisabilitam10.it/wp-content/uploads/2023/09/CresciamoINSIEME.jpeg
ORGANIZER;CN="Comitato Disabilit%C3%A0 Municipio X APS":MAILTO:comitatodisabilitam10@gmail.com
END:VEVENT
BEGIN:VEVENT
DTSTART;TZID=Europe/Rome:20240224T160000
DTEND;TZID=Europe/Rome:20240224T173000
DTSTAMP:20260422T014214
CREATED:20240221T141915Z
LAST-MODIFIED:20240221T142601Z
UID:3496-1708790400-1708795800@www.comitatodisabilitam10.it
SUMMARY:Gruppo di AUTO MUTUO AIUTO - inizio incontri
DESCRIPTION:Il Gruppo di AUTO MUTUO AIUTO con la Dott.ssa Flavia Cantarella\, organizzato gratuitamente dal Comitato Disabilità Municipio X APS e rivolto a tutti i genitori della nostra associazione\, prenderà inizio sabato 24 febbraio presso la pista di pattinaggio del Centro Sociale Sportivo a Dragona.  \nGli incontri si terranno il Sabato\, una volta al mese. \nDescrizione dell’attività: \nL’AUTO MUTUO AIUTO è rappresentato da un gruppo di persone\, accomunate da una stessa condizione\, che tramite l’interazione\, il confronto e il supporto l’una dell’altra\, si aiutano reciprocamente. \nIl gruppo nasce per le persone che vivono particolari condizioni di vita\, quando si rendono conto che tali condizioni rappresentano un problema per l’esistenza e non trovano nessuno con cui confrontarsi senza provare disagio o senza sentirsi giudicati. \nIl principio di funzionamento dei gruppi di auto mutuo aiuto potrebbe essere riassunto nel seguente motto: aiutare gli altri equivale ad aiutare sé stessi. \nCi si incontra regolarmente con una cadenza stabilita dai membri partecipanti e può prevedere al suo interno la figura di un facilitatore\, che aiuti nella regolazione della comunicazione. \nOgni incontro può durare da un’ora e mezza alle due ore. \nLa partecipazione al gruppo di auto mutuo aiuto è del tutto volontaria e si può decidere di non frequentare più in qualsiasi momento\, se non lo si ritiene più utile o per qualsiasi altro motivo. Sarebbe indicato discutere le motivazioni all’interno del gruppo prima di non farne più parte.
URL:https://www.comitatodisabilitam10.it/eventi/gruppo-di-auto-mutuo-aiuto-inizio-incontri/
LOCATION:Centro Sociale Sportivo di Dragona\, Via La Corsesca 1\, Roma\, RM\, 00126\, Italia
CATEGORIES:Tutti gli eventi del Comitato Disabilità Municipio X
ATTACH;FMTTYPE=image/jpeg:https://www.comitatodisabilitam10.it/wp-content/uploads/2024/02/AUTO_MUTUO_AIUTO.jpeg
ORGANIZER;CN="Comitato Disabilit%C3%A0 Municipio X APS":MAILTO:comitatodisabilitam10@gmail.com
END:VEVENT
END:VCALENDAR