BEGIN:VCALENDAR
VERSION:2.0
PRODID:-//Comitato Disabilità Municipio X - ECPv6.15.20//NONSGML v1.0//EN
CALSCALE:GREGORIAN
METHOD:PUBLISH
X-WR-CALNAME:Comitato Disabilità Municipio X
X-ORIGINAL-URL:https://www.comitatodisabilitam10.it
X-WR-CALDESC:Eventi per Comitato Disabilità Municipio X
REFRESH-INTERVAL;VALUE=DURATION:PT1H
X-Robots-Tag:noindex
X-PUBLISHED-TTL:PT1H
BEGIN:VTIMEZONE
TZID:Europe/Rome
BEGIN:DAYLIGHT
TZOFFSETFROM:+0100
TZOFFSETTO:+0200
TZNAME:CEST
DTSTART:20240331T010000
END:DAYLIGHT
BEGIN:STANDARD
TZOFFSETFROM:+0200
TZOFFSETTO:+0100
TZNAME:CET
DTSTART:20241027T010000
END:STANDARD
BEGIN:DAYLIGHT
TZOFFSETFROM:+0100
TZOFFSETTO:+0200
TZNAME:CEST
DTSTART:20250330T010000
END:DAYLIGHT
BEGIN:STANDARD
TZOFFSETFROM:+0200
TZOFFSETTO:+0100
TZNAME:CET
DTSTART:20251026T010000
END:STANDARD
BEGIN:DAYLIGHT
TZOFFSETFROM:+0100
TZOFFSETTO:+0200
TZNAME:CEST
DTSTART:20260329T010000
END:DAYLIGHT
BEGIN:STANDARD
TZOFFSETFROM:+0200
TZOFFSETTO:+0100
TZNAME:CET
DTSTART:20261025T010000
END:STANDARD
BEGIN:DAYLIGHT
TZOFFSETFROM:+0100
TZOFFSETTO:+0200
TZNAME:CEST
DTSTART:20270328T010000
END:DAYLIGHT
BEGIN:STANDARD
TZOFFSETFROM:+0200
TZOFFSETTO:+0100
TZNAME:CET
DTSTART:20271031T010000
END:STANDARD
END:VTIMEZONE
BEGIN:VEVENT
DTSTART;TZID=Europe/Rome:20251112T173000
DTEND;TZID=Europe/Rome:20251114T223000
DTSTAMP:20260420T162627
CREATED:20251112T094457Z
LAST-MODIFIED:20251112T144831Z
UID:3843-1762968600-1763159400@www.comitatodisabilitam10.it
SUMMARY:FRAGILE FESTIVAL - Teatro di Cittadinanza Ostia
DESCRIPTION:Via aspettiamo alla manifestazione FRAGILE FESTIVAL  dove avrà luogo Performance site-specific (restituzione laboratorio TDC) di e con Mattia Berto. Mattia Berto è l’ideatore e il fondatore del progetto “Teatro di Cittadinanza” un’iniziativa che unisce teatro e impegno sociale\, coinvolgendo cittadini di ogni età e provenienza nella creazione di esperienze performative collettive. \nNoi saremo presenti con la mostra fotografica “C’era una volta”\, le fiabe\, realizzata dalla nostra Pamela Pompei con la partecipazione dei ragazzi del Comitato Disabilità Municipio X APS e finanziata dai Commercianti del Municipio X di Roma. \nLa manifestazione si svolgerà dal 12 al 14 novembre al Teatro di Cittadinanza Ostia con inizio dello spettacolo alle ore 17:30.  \nIngresso gratuito. In caso di maltempo lo spettacolo si svolgerà presso la sala al chiuso di Piazza Capelvenere
URL:https://www.comitatodisabilitam10.it/eventi/fragile-festival-teatro-di-cittadinanza-ostia/
LOCATION:Teatro di Cittadinanza Ostia\, Piazza Capelvenere\, Roma\, RM\, 00126\, Italy
CATEGORIES:Tutti gli eventi del Comitato Disabilità Municipio X
ATTACH;FMTTYPE=image/jpeg:https://www.comitatodisabilitam10.it/wp-content/uploads/2025/11/fragile_festival.jpeg
END:VEVENT
BEGIN:VEVENT
DTSTART;VALUE=DATE:20251117
DTEND;VALUE=DATE:20251125
DTSTAMP:20260420T162627
CREATED:20251112T135541Z
LAST-MODIFIED:20251112T135615Z
UID:3869-1763337600-1764028799@www.comitatodisabilitam10.it
SUMMARY:MOSTRA FOTOGRAFICA "AIUTAMI A CRESCERE"
DESCRIPTION:Come ogni anno\, il 17 NOVEMBRE sarà la giornata mondiale dei Prematuri. \nIl Comitato Disabilità Municipio X APS e GENITIN ONLUS\, in collaborazione con il Policlinico Agostino Gemelli di Roma ed il reparto di Terapia Intensiva Neonatale\, organizzano un evento che si terrà nella Hall del Policlinico a partire dalle ore 14.30. \nPer una settimana\, dal 17 al 24 Novembre 2025\, nella Hall del 4° piano sarà esposta la mostra fotografica “AIUTAMI A CRESCERE” sui bambini nati pretermine\, realizzata dalla nostra vice presidente Pamela Pompei.   \nL’attenzione è volta a sottolineare che “Ogni anno più di 13 milioni di neonati (10% di tutti i nati) nascono prematuri nel mondo e di questi quasi 1 milione muore per complicazioni legate alla prematurità. Inoltre\, la prematurità e le sue complicanze rappresentano la principale causa di morte nel periodo neonatale (cioè nei primi 28 giorni di vita)”\, come spiega Giovanni Vento\, Direttore della UOC di Neonatologia e Terapia Intensiva Neonatale della Fondazione Policlinico Universitario Agostino Gemelli IRCCS e Professore Associato di Pediatria generale e specialistica all’Università Cattolica. \nLa mostra vuole sottolineare\, attraverso gli occhi non solo di una fotografa ma anche di una madre di 2 gemelli di 27 settimane\, le difficoltà dei bambini nati prematuri ma soprattutto la loro forza nel voler crescere!
URL:https://www.comitatodisabilitam10.it/eventi/mostra-fotografica-aiutami-a-crescere-25/
LOCATION:Hall del Policlinico Universitario Agostino Gemelli\, Largo Agostino Gemelli\, 8\, Roma\, RM\, 00168\, Italia
CATEGORIES:Tutti gli eventi del Comitato Disabilità Municipio X
ATTACH;FMTTYPE=image/jpeg:https://www.comitatodisabilitam10.it/wp-content/uploads/2025/11/aiutami-a-crescere-2025.jpeg
ORGANIZER;CN="Comitato Disabilit%C3%A0 Municipio X APS":MAILTO:comitatodisabilitam10@gmail.com
END:VEVENT
BEGIN:VEVENT
DTSTART;TZID=Europe/Rome:20251120T203000
DTEND;TZID=Europe/Rome:20251120T223000
DTSTAMP:20260420T162627
CREATED:20251112T095917Z
LAST-MODIFIED:20251112T101020Z
UID:3852-1763670600-1763677800@www.comitatodisabilitam10.it
SUMMARY:FRAGILE FESTIVAL - Teatro del Lido
DESCRIPTION:Via aspettiamo alla manifestazione FRAGILE FESTIVAL  dove avrà luogo ACAB di Din Don Down Teatro\, regia Pippo Gentile. \nAchab ci insegna ad andare in profondità\, immergersi\, a guardare le cose da altri punti di vista. Guardare non solo alla disabilità ma osservare tutte le cose che ci circondano in modo diverso. È quello che DinDonDown teatro cerca di fare\, dare una sbirciatina sotto la superficie delle cose. \nNoi saremo presenti con la mostra fotografica “C’era una volta”\, le fiabe\, realizzata dalla nostra Pamela Pompei con la partecipazione dei ragazzi del Comitato Disabilità Municipio X APS e finanziata dai Commercianti del Municipio X di Roma.
URL:https://www.comitatodisabilitam10.it/eventi/fragile-festival-teatro-del-lido/
LOCATION:Teatro del Lido\, Via delle Sirene 22\, Roma\, RM\, 00121\, Italia
CATEGORIES:Tutti gli eventi del Comitato Disabilità Municipio X
ATTACH;FMTTYPE=image/jpeg:https://www.comitatodisabilitam10.it/wp-content/uploads/2025/11/fragile_festival.jpeg
END:VEVENT
BEGIN:VEVENT
DTSTART;TZID=Europe/Rome:20251121T203000
DTEND;TZID=Europe/Rome:20251121T223000
DTSTAMP:20260420T162627
CREATED:20251112T100240Z
LAST-MODIFIED:20251112T101046Z
UID:3854-1763757000-1763764200@www.comitatodisabilitam10.it
SUMMARY:FRAGILE FESTIVAL - Teatro Domma
DESCRIPTION:Via aspettiamo alla manifestazione FRAGILE FESTIVAL  dove avrà luogo CONFINI di Din Don Down Teatro\, regia Pippo Gentile. \nSe gli individui sono come isole\, con i propri confini e le proprie nature\, possiamo costruire nuovi continenti che trasformino i nostri limiti in luoghi di scambio e d’incontro? La compagnia attraversa questo interrogativo: a partire dalla definizione del proprio\, del sé\, si aprono e si cercano azioni e desideri nelle quali ritrovarsi\, espandere\, illuminare. In scena i dieci performer sconfinano\, si avvicinano\, si mostrano e si amalgamano facendo sognare nuovi paesaggi umani.  \nNoi saremo presenti con la mostra fotografica “C’era una volta”\, le fiabe\, realizzata dalla nostra Pamela Pompei con la partecipazione dei ragazzi del Comitato Disabilità Municipio X APS e finanziata dai Commercianti del Municipio X di Roma. \nIngresso libero.
URL:https://www.comitatodisabilitam10.it/eventi/fragile-festival-teatro-domma/
LOCATION:Teatro Domma\, Via di Macchia Saponara 106\, Roma\, RM\, 00125\, Italy
CATEGORIES:Tutti gli eventi del Comitato Disabilità Municipio X
ATTACH;FMTTYPE=image/jpeg:https://www.comitatodisabilitam10.it/wp-content/uploads/2025/11/fragile_festival.jpeg
END:VEVENT
BEGIN:VEVENT
DTSTART;TZID=Europe/Rome:20251126T093000
DTEND;TZID=Europe/Rome:20251126T120000
DTSTAMP:20260420T162627
CREATED:20251112T100920Z
LAST-MODIFIED:20251112T101058Z
UID:3856-1764149400-1764158400@www.comitatodisabilitam10.it
SUMMARY:FRAGILE FESTIVAL - W. A. Mozart
DESCRIPTION:Via aspettiamo alla manifestazione FRAGILE FESTIVAL  all’Istituto Comprensivo “W. A. Mozart” per una Colazione a Teatro.Attraverso storie\, racconti\, condivideremo le nostre esperienze e i vari modi di fare colazione. E a seguire lo spettacolo FIABE\, BISCOTTI E CAFFELATTE di Ullallà\, con Pippo Gentile e Angela Graziani. \nNoi saremo presenti con la mostra fotografica “C’era una volta”\, le fiabe\, realizzata dalla nostra Pamela Pompei con la partecipazione dei ragazzi del Comitato Disabilità Municipio X APS e finanziata dai Commercianti del Municipio X di Roma. \nIngresso libero.
URL:https://www.comitatodisabilitam10.it/eventi/fragile-festival-w-a-mozart/
LOCATION:Istituto Comprensivo W. A. Mozart\, Via Nora Ricci\, 30\, Roma\, RM\, 00125\, Italy
CATEGORIES:Tutti gli eventi del Comitato Disabilità Municipio X
ATTACH;FMTTYPE=image/jpeg:https://www.comitatodisabilitam10.it/wp-content/uploads/2025/11/fragile_festival.jpeg
END:VEVENT
BEGIN:VEVENT
DTSTART;TZID=Europe/Rome:20251209T163000
DTEND;TZID=Europe/Rome:20251209T183000
DTSTAMP:20260420T162627
CREATED:20251203T145629Z
LAST-MODIFIED:20251203T145629Z
UID:3894-1765297800-1765305000@www.comitatodisabilitam10.it
SUMMARY:Incontro del Gruppo di Mutuo Aiuto al Polo Civico Acilia
DESCRIPTION:Il CDMX ha sposato con entusiasmo il progetto del Polo Civico Acilia\, un’iniziativa che va oltre l’essere un semplice spazio fisico. Si tratta di una vera e propria rete collaborativa dove Terzo Settore e Istituzioni lavorano insieme per costruire una comunità educante\, inclusiva e solidale. È un punto di riferimento quotidiano\, dove trovare ascolto\, attenzione e condivisione. \nIn quest’ottica di vicinanza e supporto\, il Gruppo di Mutuo Aiuto offre un’opportunità gratuita e preziosa per tutti: \n\n“Dalla cura di sé nasce la cura dell’altr@.“ \n\nQuesti incontri sono pensati per creare uno spazio sicuro dove condividere esperienze\, emozioni e difficoltà. Il mutuo aiuto è una risorsa potentissima che trasforma le vulnerabilità in forza collettiva. \nL’attività è gratuita ed è facilitata da figure professionali e associative di riferimento: \n\n\nDaria de Bernardo\, counselor professionista con indirizzo bioenergetico dell’associazione LABirinti APS. \n\n\nEmanuela Borin\, presidente del Comitato Disabilità Municipio Roma X. \n\n\nTi aspettiamo per un momento di condivisione e crescita!
URL:https://www.comitatodisabilitam10.it/eventi/incontro-del-gruppo-di-mutuo-aiuto-al-polo-civico-acilia/
LOCATION:Polo Civico Acilia\, Via Alessandro Milesi 36/A\, Roma\, RM\, 00125\, Italy
CATEGORIES:Tutti gli eventi del Comitato Disabilità Municipio X
ATTACH;FMTTYPE=image/jpeg:https://www.comitatodisabilitam10.it/wp-content/uploads/2025/12/polo_civico_acilia_gruppo_mutuo_aiuto.jpeg
ORGANIZER;CN="Comitato Disabilit%C3%A0 Municipio X APS":MAILTO:comitatodisabilitam10@gmail.com
END:VEVENT
BEGIN:VEVENT
DTSTART;TZID=Europe/Rome:20251213T203000
DTEND;TZID=Europe/Rome:20251213T233000
DTSTAMP:20260420T162627
CREATED:20251112T142910Z
LAST-MODIFIED:20251112T143824Z
UID:3872-1765657800-1765668600@www.comitatodisabilitam10.it
SUMMARY:CENA DI BENEFICENZA - CUORE LIBERO
DESCRIPTION:Torna la solidarietà a tavola con la Seconda Edizione della Cena di Beneficenza “Cuore Libero”! \nQuest’anno\, l’appuntamento più atteso per unire gusto e generosità si tiene a Ostia\, grazie all’impegno di un’ampia rete di organizzatori e sostenitori. È l’occasione perfetta per trascorrere una serata piacevole in compagnia\, con la consapevolezza che ogni boccone e ogni momento di festa contribuiranno a una causa importantissima. \nUn Cuore Libero per chi ha Bisogno ❤️\nL’evento “Cuore Libero” è organizzato da: \n\nGli organizzatori: Freemont Club Italia\, Stelvio Club Italia e Brand XLNT.\nCon la partecipazione di: Yarj Bartolucci A.S.D. Muay Thai Team.\nSponsor: Enoteca Il Gusto Divino e Foto Luigi Pompei.\n\nA chi andrà il ricavato?\nMetà dell’incasso della serata sarà devoluto interamente a: \n\nCOMITATO DISABILITÀ MUNICIPIO X APS: a sostegno delle attività e dei progetti per la disabilità sul territorio.\nMELAVIVO Associazione di volontariato: per dare supporto e aiuto ai pazienti affetti da melanoma e ai loro familiari.\n\nCena\, Musica e Atmosfera Magica\nLa serata sarà allietata dalla musica dal vivo\, con la voce della cantante Stefy Gamboni e l’accompagnamento del pianista Paolo Nocella alla tastiera\, garantendo un’atmosfera allegra e coinvolgente. \nIl Menù e i Prezzi\nIl Ristorante Convivia ha preparato due deliziosi menù a prezzo fisso: \n\n\n\nCategoria\nPrezzo\nMenù (Estratto)\n\n\n\n\nAdulti\n€30\nFormaggi e Salumi\, Mezze Maniche all’Amatriciana\, Arrosto con Patate\, Panettone e Pandoro\, Acqua e Vino.\n\n\nBambini\n€15\nPasta al Pomodoro\, Cotoletta di Pollo fatta in casa\, Patatine fritte\, Dolce\, Acqua e Bibite.\n\n\n\n\n📞 Non Mancare: Prenota Ora il Tuo Posto!\nPer partecipare a questa splendida iniziativa e assicurarti un posto a tavola\, la prenotazione è obbligatoria. I posti sono limitati\, non aspettare l’ultimo momento! \nRistorante Convivia – Per Prenotazioni: \n\nTel. 06.69300860\nCell. 347.7163865 / 392.8396886\n\nTi aspettiamo il 13 Dicembre per una serata dove l’unione tra la comunità e la generosità fa davvero la differenza. Partecipa e sostieni “Cuore Libero”!
URL:https://www.comitatodisabilitam10.it/eventi/cena-di-beneficenza-cuore-libero-25/
LOCATION:Ristorante Convivia\, Via dei Pescatori 71\, Rpma\, RM\, 00122\, Italy
CATEGORIES:Tutti gli eventi del Comitato Disabilità Municipio X
ATTACH;FMTTYPE=image/jpeg:https://www.comitatodisabilitam10.it/wp-content/uploads/2025/11/cena-beneficenza-cuore-libero.jpeg
END:VEVENT
BEGIN:VEVENT
DTSTART;TZID=Europe/Rome:20251216T163000
DTEND;TZID=Europe/Rome:20251216T183000
DTSTAMP:20260420T162627
CREATED:20251203T145740Z
LAST-MODIFIED:20251203T145740Z
UID:3898-1765902600-1765909800@www.comitatodisabilitam10.it
SUMMARY:Incontro del Gruppo di Mutuo Aiuto al Polo Civico Acilia
DESCRIPTION:Il CDMX ha sposato con entusiasmo il progetto del Polo Civico Acilia\, un’iniziativa che va oltre l’essere un semplice spazio fisico. Si tratta di una vera e propria rete collaborativa dove Terzo Settore e Istituzioni lavorano insieme per costruire una comunità educante\, inclusiva e solidale. È un punto di riferimento quotidiano\, dove trovare ascolto\, attenzione e condivisione. \nIn quest’ottica di vicinanza e supporto\, il Gruppo di Mutuo Aiuto offre un’opportunità gratuita e preziosa per tutti: \n\n“Dalla cura di sé nasce la cura dell’altr@.“ \n\nQuesti incontri sono pensati per creare uno spazio sicuro dove condividere esperienze\, emozioni e difficoltà. Il mutuo aiuto è una risorsa potentissima che trasforma le vulnerabilità in forza collettiva. \nL’attività è gratuita ed è facilitata da figure professionali e associative di riferimento: \n\n\nDaria de Bernardo\, counselor professionista con indirizzo bioenergetico dell’associazione LABirinti APS. \n\n\nEmanuela Borin\, presidente del Comitato Disabilità Municipio Roma X. \n\n\nTi aspettiamo per un momento di condivisione e crescita!
URL:https://www.comitatodisabilitam10.it/eventi/incontro-del-gruppo-di-mutuo-aiuto-al-polo-civico-acilia-2/
LOCATION:Polo Civico Acilia\, Via Alessandro Milesi 36/A\, Roma\, RM\, 00125\, Italy
CATEGORIES:Tutti gli eventi del Comitato Disabilità Municipio X
ATTACH;FMTTYPE=image/jpeg:https://www.comitatodisabilitam10.it/wp-content/uploads/2025/12/polo_civico_acilia_gruppo_mutuo_aiuto.jpeg
ORGANIZER;CN="Comitato Disabilit%C3%A0 Municipio X APS":MAILTO:comitatodisabilitam10@gmail.com
END:VEVENT
BEGIN:VEVENT
DTSTART;TZID=Europe/Rome:20251220T150000
DTEND;TZID=Europe/Rome:20251220T180000
DTSTAMP:20260420T162627
CREATED:20251211T143440Z
LAST-MODIFIED:20251211T143440Z
UID:3921-1766242800-1766253600@www.comitatodisabilitam10.it
SUMMARY:"PADRI" - FESTA DI NATALE 2025
DESCRIPTION:Il Comitato è lieto di invitarvi alla tradizionale Festa di Natale 2025 e alla presentazione della suo ultima produzione cinematografica. \nDopo il successo di “La Lingua degli Alieni” e “ATTRAVERSO TE\, Storie di Siblings“\, il CDMX APS presenta la sua nuova opera breve: “PADRI”\, cortometraggio ideato e diretto dalla nostra Vice Presidente Pamela Pompei\, con le voci narranti di Enrico Brignano\, Angelo Maggi e Alessandro Campaiola. \nQuesta pellicola è stata realizzata per dare voce ed esplorare il tema complesso dei padri di figli con disabilità. La visione sarà accompagnata da una mostra fotografica che esplora il conflitto interiore\, narrando storie di sentimenti contrastanti e forti. \nLa visone di PADRI sarà l’occasione per celebrare insieme il Natale! La nostra associazione vi invita a partecipare ai festeggiamenti che da tradizione includeranno: \n\n\nL’emozionante esibizione del nostro CORO. \n\n\nMusica e divertimento per tutti. \n\n\nL’arrivo di Babbo Natale e l’intrattenimento Truccabimbi. \n\n\nLa nostra consueta riffa annuale. \n\n\nDolci e un brindisi finale per festeggiare in compagnia! \n\n\nVi preghiamo di consultare la locandina allegata per il programma dettagliato. \nVI ASPETTIAMO NUMEROSI!
URL:https://www.comitatodisabilitam10.it/eventi/padri-festa-di-natale-2025/
LOCATION:MOOD\, Piazza della Stazione Vecchia\, Roma\, RM\, 00121\, Italy
CATEGORIES:Tutti gli eventi del Comitato Disabilità Municipio X
ATTACH;FMTTYPE=image/jpeg:https://www.comitatodisabilitam10.it/wp-content/uploads/2025/12/Festa_Natale_2025_Padri.jpeg
ORGANIZER;CN="Comitato Disabilit%C3%A0 Municipio X APS":MAILTO:comitatodisabilitam10@gmail.com
END:VEVENT
BEGIN:VEVENT
DTSTART;TZID=Europe/Rome:20260215T110000
DTEND;TZID=Europe/Rome:20260215T133000
DTSTAMP:20260420T162627
CREATED:20260212T163707Z
LAST-MODIFIED:20260215T095853Z
UID:3945-1771153200-1771162200@www.comitatodisabilitam10.it
SUMMARY:Il Carnevale dei Veri Supereroi: Insieme per il CDMX
DESCRIPTION:Domenica 15 febbraio 2026\, Piazza Anco Marzio ospiterà il Il Carnevale dei Veri Supereroi. Una mattinata speciale organizzata da “SuperHeroes Party” per sostenere le attività del Comitato Disabilità Municipio X APS. Sarà un evento all’insegna del divertimento inclusivo e della solidarietà. Grazie alla collaborazione di partner e artisti\, il programma prevede: \n\nIncontri Speciali: Supereroi\, Principesse e Mascotte a disposizione dei partecipanti.\nAnimazione: Show a cura di SuperHeroes Party\, Spazzolino e i Supereroi Senza Superpoteri.\nCreatività: Postazioni di Truccabimbi e Facepainting con Nikart87\, oltre a sculture di palloncini.\nGran Finale: Una sfilata collettiva di maschere con passeggiata finale al Pontile.\n\nUn ringraziamento speciale ai nostri sponsor che hanno reso possibile la raccolta fondi a favore del CDMX APS per questo evento. \nVI ASPETTIAMO!!
URL:https://www.comitatodisabilitam10.it/eventi/il-carnevale-dei-veri-supereroi-insieme-per-il-cdmx/
LOCATION:Piazzetta pedonale Anco Marzio\, Piazza Anco Marzio\, Roma\, IT\, 00122\, Italy
CATEGORIES:Tutti gli eventi del Comitato Disabilità Municipio X
ATTACH;FMTTYPE=image/jpeg:https://www.comitatodisabilitam10.it/wp-content/uploads/2026/02/CARNEVALE_2026-1.jpeg
END:VEVENT
BEGIN:VEVENT
DTSTART;TZID=Europe/Rome:20260322T100000
DTEND;TZID=Europe/Rome:20260322T180000
DTSTAMP:20260420T162627
CREATED:20260319T140355Z
LAST-MODIFIED:20260319T140355Z
UID:4005-1774173600-1774202400@www.comitatodisabilitam10.it
SUMMARY:Festa di Primavera alla Piccola Oasi
DESCRIPTION:In occasione della Festa di Primavera\, il Comitato di Quartiere Stella Polare Nord propone una giornata all’aria aperta presso la “Piccola Oasi“\, con un programma di appuntamenti che animerà l’area verde dalle prime ore del mattino fino al calar del sole. Questa iniziativa rappresenta una preziosa occasione di aggregazione per la comunità locale\, pensata per accogliere la nuova stagione attraverso laboratori creativi\, contatto con la natura e momenti di socialità. \nIl Laboratorio Floreale del Comitato\nIl Comitato Disabilità Municipio X APS prenderà parte attiva ai festeggiamenti curando uno spazio dedicato alla manualità e all’inclusione. \nDalle ore 14:30 alle 15:30\, presso la Piccola Oasi\, si terrà il “Laboratorio Floreale” gratuito. Durante l’attività\, i partecipanti potranno realizzare insieme tanti fiori colorati per dare il benvenuto alla primavera alle porte\, valorizzando le capacità espressive di ognuno in un clima di festa. \nProgramma della giornata\nOltre al laboratorio curato dal nostro Comitato\, la giornata prevede un ricco calendario di appuntamenti per famiglie e bambini: \n\n\nMattina: Apertura alle ore 10:00\, seguita da spettacoli di bolle di sapone\, letture ad alta voce e laboratori creativi per i più piccoli. Alle 12:30 si terrà una presentazione di scherma antica in armatura. \n\n\nPomeriggio: Letture animate e\, alle ore 16:00\, un’esibizione di duello spada e brocchiere. La giornata si concluderà con una performance teatrale a cura di THE ACT STUDIO alle ore 17:00. \n\n\nAttività continuative: Per tutta la durata dell’evento saranno presenti truccabimbi\, stand di artigianato\, laboratori di uncinetto e musica.
URL:https://www.comitatodisabilitam10.it/eventi/festa-di-primavera-alla-piccola-oasi/
LOCATION:Piccola Oasi\, Via Simone Stratico\, Lido di Ostia\, RM\, 00122\, Italy
CATEGORIES:Tutti gli eventi del Comitato Disabilità Municipio X
ATTACH;FMTTYPE=image/jpeg:https://www.comitatodisabilitam10.it/wp-content/uploads/2026/03/festa_primavera.jpeg
END:VEVENT
BEGIN:VEVENT
DTSTART;TZID=Europe/Rome:20260401T080000
DTEND;TZID=Europe/Rome:20260401T170000
DTSTAMP:20260420T162627
CREATED:20260319T132809Z
LAST-MODIFIED:20260319T133428Z
UID:3999-1775030400-1775062800@www.comitatodisabilitam10.it
SUMMARY:Sport e Inclusione: Al via il secondo anno di attività a "The Spot Skatepark"
DESCRIPTION:Siamo felici di annunciare il ritorno\, per il secondo anno consecutivo\, del progetto dedicato allo sport e alla socializzazione per i ragazzi e le ragazze del Comitato Disabilità Municipio X APS. Dopo il successo della precedente edizione\, il 1° aprile 2026 ripartono le attività presso The SPOT il celebre skatepark di Ostia\, consolidando una collaborazione nata per trasformare le caratteristiche di ogni giovane in punti di forza. \nUn progetto che cresce: Skateboarding e Basket 3×3\nL’iniziativa\, organizzata gratuitamente dal nostro Comitato\, continua a puntare su discipline dinamiche che favoriscono l’espressione personale: \n\n\nSkateboarding: per sperimentare l’equilibrio e il movimento in modo creativo. \n\n\nBasket 3×3: per favorire il gioco di squadra e la collaborazione. \n\n\nIn questo secondo anno\, l’obiettivo resta quello di offrire un ambiente sicuro e strutturato dove sviluppare nuove competenze e costruire relazioni positive sotto la guida di educatori specializzati. Attraverso le conquiste quotidiane e il riconoscimento dei progressi\, ogni ragazzo potrà continuare a rafforzare la fiducia in se stesso. \nDettagli e Organizzazione 2026\nLe attività sono studiate per garantire un rapporto numerico educatore-ragazzi che assicuri un’attenzione individualizzata. \n\n\nData di inizio: 1° aprile 2026. \n\n\nQuando: Ogni mercoledì pomeriggio. \n\n\nOrari: Primo gruppo dalle 15:00 alle 16:00; secondo gruppo dalle 16:00 alle 17:00. \n\n\nPartecipanti: Ragazzi e ragazze con disabilità del CDMX senza limiti di età (gruppi di 5 partecipanti). \n\n\nDove: Presso THE SPOT SKATEPARK\, Via Nostra Signora di Bonaria 13\, Lido di Ostia. \n\n\n\nNota importante: Come l’anno scorso\, ogni partecipante dovrà essere accompagnato da una persona di fiducia (familiare o assistente) che rimarrà presente per tutta la durata dell’attività. \n\nPer agevolare il coordinamento\, verrà utilizzata una chat WhatsApp dedicata per tutti i partecipanti.  \nVuoi partecipare? Contattaci al numero 342.1278887 o scrivi a comitatodisabilitam10@gmail.com \nScarica la scheda. 
URL:https://www.comitatodisabilitam10.it/eventi/sport-e-inclusione-al-via-il-secondo-anno-di-attivita-a-the-spot-skatepark/
LOCATION:The Spot Skatepark\, Via Nostra Signora di Bonaria\, 13\, Lido di Ostia\, RM\, 00121\, Italy
CATEGORIES:Tutti gli eventi del Comitato Disabilità Municipio X
ATTACH;FMTTYPE=image/jpeg:https://www.comitatodisabilitam10.it/wp-content/uploads/2026/03/CDMX_SPOT.jpeg
ORGANIZER;CN="Comitato Disabilit%C3%A0 Municipio X APS":MAILTO:comitatodisabilitam10@gmail.com
END:VEVENT
BEGIN:VEVENT
DTSTART;TZID=Europe/Rome:20260418T080000
DTEND;TZID=Europe/Rome:20260418T120000
DTSTAMP:20260420T162627
CREATED:20260416T083038Z
LAST-MODIFIED:20260416T083038Z
UID:4017-1776499200-1776513600@www.comitatodisabilitam10.it
SUMMARY:Giornata della Donazione di Sangue all’I.T.I.S. Faraday
DESCRIPTION:La solidarietà torna protagonista sul nostro territorio con un appuntamento dedicato alla salute e al sostegno del prossimo. In collaborazione con LA RETE DI TUTTI ODV\, la nostra associazione vi invita a partecipare a questo importante evento sul nostro territorio il 18 Aprile 2026 presso I.T.I.S. M. FARADAY. \nDalle 08:00 alle 12:00\, la sede di via Capo Sperone 52 si trasformerà in un presidio di prevenzione e generosità. Donare il sangue è un gesto semplice ma fondamentale\, capace di fare la differenza per molte vite\, ma l’evento di quest’anno offre molto di più. \nNon solo Donazione: Screening e Prevenzione Gratuita\nOltre alla possibilità di donare\, durante la mattinata saranno offerti gratuitamente diversi servizi di screening (fino a esaurimento posti)\, pensati per il benessere dei cittadini: \n\n\nScreening Cardiologico con ECG: Per monitorare la salute del cuore. \n\n\nScreening Audiologico: Per il controllo dell’udito. \n\n\nCounselling Psicologico: Uno spazio di ascolto e confronto professionale. \n\n\nDimostrazioni BLSD: Prove pratiche di primo soccorso e manovre di disostruzione delle vie aeree. \n\n\nInformazioni Utili per i Donatori\nPer chi desidera donare\, è importante seguire alcune piccole accortezze: \n\n\nColazione: È possibile fare una leggera colazione prima del prelievo\, ma è fondamentale evitare latte e derivati. \n\n\nPrenotazione: Per garantire una corretta gestione dell’afflusso\, è necessario prenotare la propria donazione sul sito ufficiale  	www.lareteditutti.it. \n\n\nContatti: Per qualsiasi dubbio o chiarimento\, è possibile inviare un SMS al numero 328.2377105. \n\n\nL’iniziativa è resa possibile grazie alla sinergia di diverse realtà: organizzata da La Rete di Tutti OdV\, con il patrocinio del Municipio X di Roma Capitale e la preziosa collaborazione di Fondazione Peri\, Comitato Disabilità Municipio X APS\, CSV Lazio e il supporto tecnico di Audin. \nVi aspettiamo numerosi per dimostrare\, ancora una volta\, la forza e il cuore della nostra comunità!
URL:https://www.comitatodisabilitam10.it/eventi/giornata-della-donazione-di-sangue-alli-t-i-s-faraday/
LOCATION:Istituto Tecnico Industriale Michael Faraday\, Via Capo Sperone\, 52\, Ostia Lido\, RM\, 00122\, Italia
CATEGORIES:Tutti gli eventi del Comitato Disabilità Municipio X
ATTACH;FMTTYPE=image/jpeg:https://www.comitatodisabilitam10.it/wp-content/uploads/2026/04/donazione_sangue.jpeg
ORGANIZER;CN="Comitato Disabilit%C3%A0 Municipio X APS":MAILTO:comitatodisabilitam10@gmail.com
END:VEVENT
END:VCALENDAR