BEGIN:VCALENDAR
VERSION:2.0
PRODID:-//Comitato Disabilità Municipio X - ECPv6.15.20//NONSGML v1.0//EN
CALSCALE:GREGORIAN
METHOD:PUBLISH
X-ORIGINAL-URL:https://www.comitatodisabilitam10.it
X-WR-CALDESC:Eventi per Comitato Disabilità Municipio X
REFRESH-INTERVAL;VALUE=DURATION:PT1H
X-Robots-Tag:noindex
X-PUBLISHED-TTL:PT1H
BEGIN:VTIMEZONE
TZID:Europe/Rome
BEGIN:DAYLIGHT
TZOFFSETFROM:+0100
TZOFFSETTO:+0200
TZNAME:CEST
DTSTART:20210328T010000
END:DAYLIGHT
BEGIN:STANDARD
TZOFFSETFROM:+0200
TZOFFSETTO:+0100
TZNAME:CET
DTSTART:20211031T010000
END:STANDARD
BEGIN:DAYLIGHT
TZOFFSETFROM:+0100
TZOFFSETTO:+0200
TZNAME:CEST
DTSTART:20220327T010000
END:DAYLIGHT
BEGIN:STANDARD
TZOFFSETFROM:+0200
TZOFFSETTO:+0100
TZNAME:CET
DTSTART:20221030T010000
END:STANDARD
BEGIN:DAYLIGHT
TZOFFSETFROM:+0100
TZOFFSETTO:+0200
TZNAME:CEST
DTSTART:20230326T010000
END:DAYLIGHT
BEGIN:STANDARD
TZOFFSETFROM:+0200
TZOFFSETTO:+0100
TZNAME:CET
DTSTART:20231029T010000
END:STANDARD
END:VTIMEZONE
BEGIN:VEVENT
DTSTART;TZID=Europe/Rome:20220201T160000
DTEND;TZID=Europe/Rome:20220731T170000
DTSTAMP:20260424T033943
CREATED:20220416T085834Z
LAST-MODIFIED:20220604T122043Z
UID:2556-1643731200-1659286800@www.comitatodisabilitam10.it
SUMMARY:Laboratorio di Musicoterapia
DESCRIPTION:Laboratorio di musicaterapia gratuito con la Dott.ssa Roberta Paolella\, rivolto ai/alle nostri/e ragazzi/e con disabilità\, senza limiti di età.  \nQuando: il Martedì pomeriggio \nDove: presso l’Istituto Tecnico Industriale Michael Faraday \nI partecipanti saranno suddivisi in 2 turni: \n\n1° turno ore 16.00\n2° turno ore 17.00.\n\nL’attività tiene conto delle disposizioni relative al Covid-19. \nhttps://www.comitatodisabilitam10.it/wp-content/uploads/2022/04/CDMX-Musicoterapia.mp4\n 
URL:https://www.comitatodisabilitam10.it/eventi/laboratorio-di-musicoterapia/
LOCATION:Istituto Tecnico Industriale Michael Faraday\, Via Capo Sperone\, 52\, Ostia Lido\, RM\, 00122\, Italia
CATEGORIES:Tutti gli eventi del Comitato Disabilità Municipio X
ORGANIZER;CN="Comitato Disabilit%C3%A0 Municipio X APS":MAILTO:comitatodisabilitam10@gmail.com
END:VEVENT
BEGIN:VEVENT
DTSTART;TZID=Europe/Rome:20220531T170000
DTEND;TZID=Europe/Rome:20220531T190000
DTSTAMP:20260424T033943
CREATED:20220527T152755Z
LAST-MODIFIED:20220528T074715Z
UID:2604-1654016400-1654023600@www.comitatodisabilitam10.it
SUMMARY:WEBINAR AFFETTIVITÀ\, SESSUALITÀ E DISABILITÀ
DESCRIPTION:Il Webinar\, tenuto dalla psicologa/psicoterapeuta Dott.ssa Flavia Cantarella\, si propone di introdurre due tematiche correlate fra loro che\, a tutt’oggi\, risultano essere un unico\, enorme argomento intriso di pregiudizi e tabù\, i quali permeano tutta la società ed affondano le loro radici fino alle stesse famiglie in cui è presente una persona con disabilità. \nPer contrastare questi pregiudizi e rompere tali tabù bisogna disporre di conoscenze e capacità di riflettere in una modalità inclusiva\, elementi che sono essenziali per fare dei passi avanti sui diritti delle persone con disabilità. \nLa partecipazione è gratuita. \nIl Webinar si terrà su piattaforma Teams\, il link dell’evento sarà inviato il giorno prima dell’ incontro sulla chat INFO CDMX. \nScarica la locandina.
URL:https://www.comitatodisabilitam10.it/eventi/webinar-affettivita-sessualita-e-disabilita/
LOCATION:Piattaforma Teams
CATEGORIES:Tutti gli eventi del Comitato Disabilità Municipio X
ATTACH;FMTTYPE=image/jpeg:https://www.comitatodisabilitam10.it/wp-content/uploads/2022/05/webinar-31-maggio-22.jpg
ORGANIZER;CN="Comitato Disabilit%C3%A0 Municipio X APS":MAILTO:comitatodisabilitam10@gmail.com
END:VEVENT
END:VCALENDAR