BEGIN:VCALENDAR
VERSION:2.0
PRODID:-//Comitato Disabilità Municipio X - ECPv6.15.20//NONSGML v1.0//EN
CALSCALE:GREGORIAN
METHOD:PUBLISH
X-WR-CALNAME:Comitato Disabilità Municipio X
X-ORIGINAL-URL:https://www.comitatodisabilitam10.it
X-WR-CALDESC:Eventi per Comitato Disabilità Municipio X
REFRESH-INTERVAL;VALUE=DURATION:PT1H
X-Robots-Tag:noindex
X-PUBLISHED-TTL:PT1H
BEGIN:VTIMEZONE
TZID:Europe/Rome
BEGIN:DAYLIGHT
TZOFFSETFROM:+0100
TZOFFSETTO:+0200
TZNAME:CEST
DTSTART:20210328T010000
END:DAYLIGHT
BEGIN:STANDARD
TZOFFSETFROM:+0200
TZOFFSETTO:+0100
TZNAME:CET
DTSTART:20211031T010000
END:STANDARD
BEGIN:DAYLIGHT
TZOFFSETFROM:+0100
TZOFFSETTO:+0200
TZNAME:CEST
DTSTART:20220327T010000
END:DAYLIGHT
BEGIN:STANDARD
TZOFFSETFROM:+0200
TZOFFSETTO:+0100
TZNAME:CET
DTSTART:20221030T010000
END:STANDARD
BEGIN:DAYLIGHT
TZOFFSETFROM:+0100
TZOFFSETTO:+0200
TZNAME:CEST
DTSTART:20230326T010000
END:DAYLIGHT
BEGIN:STANDARD
TZOFFSETFROM:+0200
TZOFFSETTO:+0100
TZNAME:CET
DTSTART:20231029T010000
END:STANDARD
END:VTIMEZONE
BEGIN:VEVENT
DTSTART;TZID=Europe/Rome:20221211T150000
DTEND;TZID=Europe/Rome:20221211T183000
DTSTAMP:20260423T124503
CREATED:20221112T085443Z
LAST-MODIFIED:20221209T140635Z
UID:2852-1670770800-1670783400@www.comitatodisabilitam10.it
SUMMARY:C’ERA UNA VOLTA…2023: presentazione del primo Calendario del CDMX
DESCRIPTION:Il Comitato Disabilità Municipio X è lieto di invitarvi alla mostra fotografica ad alla presentazione di “C’era una volta…2023” il primo calendario artistico informativo in cui i nostri ragazzi interpretano i personaggi delle fiabe. \nDomenica 11 Dicembre 2022\, apertura dalle ore 15 alle 18.30\, presentazione alle ore 16.00 presso l’azienda agricola “Serra Madre“. \nScarica la locandina con tutte le info. \nNON MANCATE! \n \n﻿
URL:https://www.comitatodisabilitam10.it/eventi/cera-una-volta2023-presentazione-del-primo-calendario-del-cdmx/
LOCATION:Azienda agricola Terra Madre\, Via di Macchia Palocco\, 320\, Roma\, RM\, 00125\, Italia
CATEGORIES:Tutti gli eventi del Comitato Disabilità Municipio X
ATTACH;FMTTYPE=image/jpeg:https://www.comitatodisabilitam10.it/wp-content/uploads/2022/11/calendario_cera_una_volta.jpg
ORGANIZER;CN="Comitato Disabilit%C3%A0 Municipio X APS":MAILTO:comitatodisabilitam10@gmail.com
END:VEVENT
END:VCALENDAR