BEGIN:VCALENDAR
VERSION:2.0
PRODID:-//Comitato Disabilità Municipio X - ECPv6.15.20//NONSGML v1.0//EN
CALSCALE:GREGORIAN
METHOD:PUBLISH
X-WR-CALNAME:Comitato Disabilità Municipio X
X-ORIGINAL-URL:https://www.comitatodisabilitam10.it
X-WR-CALDESC:Eventi per Comitato Disabilità Municipio X
REFRESH-INTERVAL;VALUE=DURATION:PT1H
X-Robots-Tag:noindex
X-PUBLISHED-TTL:PT1H
BEGIN:VTIMEZONE
TZID:Europe/Rome
BEGIN:DAYLIGHT
TZOFFSETFROM:+0100
TZOFFSETTO:+0200
TZNAME:CEST
DTSTART:20220327T010000
END:DAYLIGHT
BEGIN:STANDARD
TZOFFSETFROM:+0200
TZOFFSETTO:+0100
TZNAME:CET
DTSTART:20221030T010000
END:STANDARD
BEGIN:DAYLIGHT
TZOFFSETFROM:+0100
TZOFFSETTO:+0200
TZNAME:CEST
DTSTART:20230326T010000
END:DAYLIGHT
BEGIN:STANDARD
TZOFFSETFROM:+0200
TZOFFSETTO:+0100
TZNAME:CET
DTSTART:20231029T010000
END:STANDARD
BEGIN:DAYLIGHT
TZOFFSETFROM:+0100
TZOFFSETTO:+0200
TZNAME:CEST
DTSTART:20240331T010000
END:DAYLIGHT
BEGIN:STANDARD
TZOFFSETFROM:+0200
TZOFFSETTO:+0100
TZNAME:CET
DTSTART:20241027T010000
END:STANDARD
END:VTIMEZONE
BEGIN:VEVENT
DTSTART;TZID=Europe/Rome:20230516T160000
DTEND;TZID=Europe/Rome:20230627T180000
DTSTAMP:20260423T012122
CREATED:20230403T152447Z
LAST-MODIFIED:20230403T152447Z
UID:3127-1684252800-1687888800@www.comitatodisabilitam10.it
SUMMARY:PROGETTO SESSUALITÀ\, AFFETTIVITÀ E DISABILITÀ
DESCRIPTION:Webinar gratuito su Sessualità\, Affettività e Disabilità\,organizzato dal nostro Comitato e tenuto dalla Dott.ssa Psicoteraeuta Flavia Cantarella\, già responsabile dello sportello di ascolto on line alla genitorialità. \nOgni incontro durerà 2h è si terrà su piattaforma online nei giorni: \n\n16 maggio 2023 16:00/18:00\n30 maggio 2023 16:00/18:00\n13 giugno 2023 16:00/18:00\n27 giugno 2023 16:00/18:00\n\nGli incontri si propongono di introdurre due tematiche correlate fra loro\, Sessualità-Affettività e Disabilità che\, a tutt’oggi\, risultano essere un unico\, enorme argomento intriso di pregiudizi e tabù\, i quali permeano tutta la società ed affondano le loro radici fino alle stesse famiglie in cui è presente una persona con disabilità. \nPer contrastare questi pregiudizi e rompere tali tabù bisogna disporre di conoscenze e capacità di riflettere in una modalità inclusiva\, elementi che sono essenziali per fare dei passi avanti sui diritti delle persone con disabilità. \n….. \nGli incontri sono rivolti ai genitori che\, attraverso un supporto professionale\, potranno imparare a riconoscere e a gestire le naturali esigenze dei propri figli affinché si arrivi a comprendere che la sessualità è parte integrante del percorso di crescita di ogni essere umano a prescindere dallo stato fisico e psichico in cui si trova. \nSCARICA IL PROGRAMMA \nPer informazioni contattaci tramite la nostra pagina Contatti o scrivici su info@comitatodisabilitam10.it
URL:https://www.comitatodisabilitam10.it/eventi/progetto-sessualita-affettivita-e-disabilita/
LOCATION:RM
CATEGORIES:Tutti gli eventi del Comitato Disabilità Municipio X
ATTACH;FMTTYPE=image/jpeg:https://www.comitatodisabilitam10.it/wp-content/uploads/2023/04/Sessualita_Affettivita_Disabilita.jpeg
ORGANIZER;CN="Comitato Disabilit%C3%A0 Municipio X APS":MAILTO:comitatodisabilitam10@gmail.com
END:VEVENT
BEGIN:VEVENT
DTSTART;TZID=Europe/Rome:20230523T163000
DTEND;TZID=Europe/Rome:20230527T190000
DTSTAMP:20260423T012122
CREATED:20230713T060712Z
LAST-MODIFIED:20230713T123438Z
UID:3239-1684859400-1685214000@www.comitatodisabilitam10.it
SUMMARY:Municipio X\, Comunità educante: una settimana di eventi per bambini e ragazzi
DESCRIPTION:Dal 20 al 29 maggio 2023\, in occasione della Giornata della Comunità Educante Municipio X che ricorre il 27 maggio data di nascita di Don Lorenzo Milani\, si svolgeranno decine di iniziative di contrasto alla povertà educativa e alle tante criticità che riguardano\, in particolare\, bambini e minori. \nLe iniziative sono frutto della collaborazione tra enti del terzo settore\, scuole associazioni\, famiglie\, parrocchie\, centri anziani ed istituzioni. Una iniziativa che vede impegnata la comunità nella costruzione di un futuro migliore per i più giovani\, mettendo al centro l’attenzione e la cura per i ragazzi\, per le loro aspirazioni e i loro talenti. \nIl COMITATO DISABILITÀ MUNICIPIO X sarà presente: \nMERCOLEDI’ 24  \nore 16.30-18.30 con “Giochi senza barriere” a cura del Comitato Disabilità X Municipio\, in collaborazione con l’IIS Via di Saponara\, presso il polo di socializzazione “Raggio di Sole”- Via Monte Cugno 10. In contemporanea\, Nonno Oscar e i suoi giocattoli di ieri e di oggi per grandi e piccini\, a cura del Comitato Disabilità X Municipio. \nGIOVEDI’ 25\nore 17:00-19:00 con Laboratorio integrato di orticultura “Insieme per prenderci cura” a cura di Humus Sapiens e in collaborazione con il Comitato Disabilità X Municipio. Appuntamento in via Vincenzo Petra 224\, a Dragoncello. \nFino ad esaurimento posti. Per prenotazioni: info@accademiasantarita.it.
URL:https://www.comitatodisabilitam10.it/eventi/municipio-x-comunita-educante-una-settimana-di-eventi-per-bambini-e-ragazzi/
LOCATION:RM
CATEGORIES:Tutti gli eventi del Comitato Disabilità Municipio X
ATTACH;FMTTYPE=image/jpeg:https://www.comitatodisabilitam10.it/wp-content/uploads/2023/07/Municipio-X-comunita-educante.jpeg
END:VEVENT
END:VCALENDAR