BEGIN:VCALENDAR
VERSION:2.0
PRODID:-//Comitato Disabilità Municipio X - ECPv6.15.20//NONSGML v1.0//EN
CALSCALE:GREGORIAN
METHOD:PUBLISH
X-WR-CALNAME:Comitato Disabilità Municipio X
X-ORIGINAL-URL:https://www.comitatodisabilitam10.it
X-WR-CALDESC:Eventi per Comitato Disabilità Municipio X
REFRESH-INTERVAL;VALUE=DURATION:PT1H
X-Robots-Tag:noindex
X-PUBLISHED-TTL:PT1H
BEGIN:VTIMEZONE
TZID:Europe/Rome
BEGIN:DAYLIGHT
TZOFFSETFROM:+0100
TZOFFSETTO:+0200
TZNAME:CEST
DTSTART:20220327T010000
END:DAYLIGHT
BEGIN:STANDARD
TZOFFSETFROM:+0200
TZOFFSETTO:+0100
TZNAME:CET
DTSTART:20221030T010000
END:STANDARD
BEGIN:DAYLIGHT
TZOFFSETFROM:+0100
TZOFFSETTO:+0200
TZNAME:CEST
DTSTART:20230326T010000
END:DAYLIGHT
BEGIN:STANDARD
TZOFFSETFROM:+0200
TZOFFSETTO:+0100
TZNAME:CET
DTSTART:20231029T010000
END:STANDARD
BEGIN:DAYLIGHT
TZOFFSETFROM:+0100
TZOFFSETTO:+0200
TZNAME:CEST
DTSTART:20240331T010000
END:DAYLIGHT
BEGIN:STANDARD
TZOFFSETFROM:+0200
TZOFFSETTO:+0100
TZNAME:CET
DTSTART:20241027T010000
END:STANDARD
END:VTIMEZONE
BEGIN:VEVENT
DTSTART;VALUE=DATE:20230701
DTEND;VALUE=DATE:20230801
DTSTAMP:20260422T235030
CREATED:20230719T124651Z
LAST-MODIFIED:20230719T130541Z
UID:3290-1688169600-1690847999@www.comitatodisabilitam10.it
SUMMARY:CORSO ESTIVO DI BEACH VOLLEY
DESCRIPTION:Con grandissimo piacere il Comitato Disabilità Municipio X inizia una nuova collaborazione con l”ASSOCIAZIONE CREATTIVI” per i ragazzi e le ragazze del Comitato. \nPer tutto il mese di Luglio\, ogni mercoledì\, saremo ospiti dei campi dello stabilimento Hibiscus per giocare\, divertirci e crescere sportivamente insieme!
URL:https://www.comitatodisabilitam10.it/eventi/corso-estivo-di-beach-volley/
LOCATION:Stabilimento Hibiscus\, Lungomare Lutazio Catulo\, 14b\, Lido di Ostia RM\, Lido di Ostia\, RM\, 00122\, Italia
CATEGORIES:Tutti gli eventi del Comitato Disabilità Municipio X
ATTACH;FMTTYPE=image/jpeg:https://www.comitatodisabilitam10.it/wp-content/uploads/2023/07/CORSO-ESTIVO_BEACH-VOLLEY.jpeg
ORGANIZER;CN="Comitato Disabilit%C3%A0 Municipio X APS":MAILTO:comitatodisabilitam10@gmail.com
END:VEVENT
BEGIN:VEVENT
DTSTART;TZID=Europe/Rome:20230725T100000
DTEND;TZID=Europe/Rome:20230725T180000
DTSTAMP:20260422T235030
CREATED:20230711T110835Z
LAST-MODIFIED:20230713T130937Z
UID:3230-1690279200-1690308000@www.comitatodisabilitam10.it
SUMMARY:SURFI-AMO
DESCRIPTION:In collaborazione con OSTIA SURF ADAPTIVE\, Il CDMX organizza una giornata esclusiva senza limiti di età e senza barriere. \nIl 25 Luglio 2023\, presso lo stabilimento Peppino a Mare\, dalle 10:00 alle 11:00 o dalle 17:00 alle 18:00\, esperti surfisti saranno a disposizione del Comitato Disabilità Municipio X per dare la possibilità a tutti di vivere un’esperienza unica sulla tavola da Surf. \nUna collaborazione voluta da entrambe le associazioni per “abbattere” sempre più i muri dell’impossibile.
URL:https://www.comitatodisabilitam10.it/eventi/ostia-surf-adaptive/
LOCATION:Peppino a Mare\, Lungomare Amerigo Vespucci 98\, Roma\, RM\, 00122\, Italia
CATEGORIES:Tutti gli eventi del Comitato Disabilità Municipio X
ATTACH;FMTTYPE=image/jpeg:https://www.comitatodisabilitam10.it/wp-content/uploads/2023/07/CDMX_OSTIA_SURF_ADAPTIVE.jpeg
ORGANIZER;CN="Comitato Disabilit%C3%A0 Municipio X APS":MAILTO:comitatodisabilitam10@gmail.com
END:VEVENT
END:VCALENDAR