BEGIN:VCALENDAR
VERSION:2.0
PRODID:-//Comitato Disabilità Municipio X - ECPv6.15.20//NONSGML v1.0//EN
CALSCALE:GREGORIAN
METHOD:PUBLISH
X-ORIGINAL-URL:https://www.comitatodisabilitam10.it
X-WR-CALDESC:Eventi per Comitato Disabilità Municipio X
REFRESH-INTERVAL;VALUE=DURATION:PT1H
X-Robots-Tag:noindex
X-PUBLISHED-TTL:PT1H
BEGIN:VTIMEZONE
TZID:Europe/Rome
BEGIN:DAYLIGHT
TZOFFSETFROM:+0100
TZOFFSETTO:+0200
TZNAME:CEST
DTSTART:20230326T010000
END:DAYLIGHT
BEGIN:STANDARD
TZOFFSETFROM:+0200
TZOFFSETTO:+0100
TZNAME:CET
DTSTART:20231029T010000
END:STANDARD
BEGIN:DAYLIGHT
TZOFFSETFROM:+0100
TZOFFSETTO:+0200
TZNAME:CEST
DTSTART:20240331T010000
END:DAYLIGHT
BEGIN:STANDARD
TZOFFSETFROM:+0200
TZOFFSETTO:+0100
TZNAME:CET
DTSTART:20241027T010000
END:STANDARD
BEGIN:DAYLIGHT
TZOFFSETFROM:+0100
TZOFFSETTO:+0200
TZNAME:CEST
DTSTART:20250330T010000
END:DAYLIGHT
BEGIN:STANDARD
TZOFFSETFROM:+0200
TZOFFSETTO:+0100
TZNAME:CET
DTSTART:20251026T010000
END:STANDARD
END:VTIMEZONE
BEGIN:VEVENT
DTSTART;TZID=Europe/Rome:20241002T153000
DTEND;TZID=Europe/Rome:20241002T183000
DTSTAMP:20260421T121719
CREATED:20240930T135314Z
LAST-MODIFIED:20250219T100603Z
UID:3582-1727883000-1727893800@www.comitatodisabilitam10.it
SUMMARY:GINNASTICA PER TUTTI
DESCRIPTION:GINNASTICA PER TUTTI è un corso di educazione al movimento\, organizzato gratuitamente dal nostro Comitato\, per ragazzi ed adulti con disabilità. \nIl corso\, a cura di Cristina Mondin\, sarà suddiviso in 3 gruppi da un’ora ciascuno e si svolgerà ogni mercoledì dal 2 ottobre 2024 dalle 15.30 alle 18.30 presso la palestra FIVE STUDIO PERSONAL \nPer tutte le info scarica la scheda del progetto.
URL:https://www.comitatodisabilitam10.it/eventi/ginnastica-per-tutti-3/
LOCATION:Five Studio Personal\, Via Dobbiaco\, 199\, Roma\, RM\, 00124\, Italia
CATEGORIES:Tutti gli eventi del Comitato Disabilità Municipio X
ATTACH;FMTTYPE=image/jpeg:https://www.comitatodisabilitam10.it/wp-content/uploads/2024/09/GINNASTICA_PER_TUTTI_24_25.jpeg
ORGANIZER;CN="Comitato Disabilit%C3%A0 Municipio X APS":MAILTO:comitatodisabilitam10@gmail.com
END:VEVENT
END:VCALENDAR