BEGIN:VCALENDAR
VERSION:2.0
PRODID:-//Comitato Disabilità Municipio X - ECPv6.15.20//NONSGML v1.0//EN
CALSCALE:GREGORIAN
METHOD:PUBLISH
X-WR-CALNAME:Comitato Disabilità Municipio X
X-ORIGINAL-URL:https://www.comitatodisabilitam10.it
X-WR-CALDESC:Eventi per Comitato Disabilità Municipio X
REFRESH-INTERVAL;VALUE=DURATION:PT1H
X-Robots-Tag:noindex
X-PUBLISHED-TTL:PT1H
BEGIN:VTIMEZONE
TZID:Europe/Rome
BEGIN:DAYLIGHT
TZOFFSETFROM:+0100
TZOFFSETTO:+0200
TZNAME:CEST
DTSTART:20240331T010000
END:DAYLIGHT
BEGIN:STANDARD
TZOFFSETFROM:+0200
TZOFFSETTO:+0100
TZNAME:CET
DTSTART:20241027T010000
END:STANDARD
BEGIN:DAYLIGHT
TZOFFSETFROM:+0100
TZOFFSETTO:+0200
TZNAME:CEST
DTSTART:20250330T010000
END:DAYLIGHT
BEGIN:STANDARD
TZOFFSETFROM:+0200
TZOFFSETTO:+0100
TZNAME:CET
DTSTART:20251026T010000
END:STANDARD
BEGIN:DAYLIGHT
TZOFFSETFROM:+0100
TZOFFSETTO:+0200
TZNAME:CEST
DTSTART:20260329T010000
END:DAYLIGHT
BEGIN:STANDARD
TZOFFSETFROM:+0200
TZOFFSETTO:+0100
TZNAME:CET
DTSTART:20261025T010000
END:STANDARD
END:VTIMEZONE
BEGIN:VEVENT
DTSTART;TZID=Europe/Rome:20250222T203000
DTEND;TZID=Europe/Rome:20250222T223000
DTSTAMP:20260421T044944
CREATED:20250219T093913Z
LAST-MODIFIED:20250219T094246Z
UID:3714-1740256200-1740263400@www.comitatodisabilitam10.it
SUMMARY:SPETTACOLO TEATRALE MURDER POPPINS – 22 Febbraio
DESCRIPTION:MURDER POPPINS è uno spettacolo teatrale della Compagnia Morlock\, in scena al Teatro in Stalla. \nCosto del biglietto posto unico € 10\,00 + €5\,00 per il costo della tessera del Teatro in Stalla (solo per i non abbonati). \nPer prenotare compilare questo modulo \nATTENZIONE: Il modulo è da compilare per tutti gli adulti e i ragazzi al di sopra dei 13 anni. La presenza di bambini sotto i 13 anni va comunque comunicata al Teatro in Stalla telefonicamente al 351 861 3185 \nSinossi: \nElsa Jean Krakowsky è un’eccentrica americana desiderosa di migliorare il mondo\, una persona alla volta. In crociera\, dopo aver fatto amicizia con una coppia italiana in crisi\, si fa invitare a casa loro a Roma. Elsa entra nelle loro vite come un uragano: sarà inarrestabile finché non avrà rimesso in sesto questa famiglia disfunzionale. I figli della coppia\, Rosy e Alex\, sono restii alla sua presenza\, ma ne resteranno ben presto affascinati. Elsa sembrerebbe perfetta…Peccato che su internet giri voce che lei sia un’assassina!
URL:https://www.comitatodisabilitam10.it/eventi/spettacolo-teatrale-murder-poppins-22-febbraio/
LOCATION:Teatro in Stalla\, Vicolo delle saline\, 25\, Ostia Antica\, RM\, 00119\, Italy
CATEGORIES:Tutti gli eventi del Comitato Disabilità Municipio X
ATTACH;FMTTYPE=image/jpeg:https://www.comitatodisabilitam10.it/wp-content/uploads/2025/02/teatro_MURDER_POPPINS.jpeg
ORGANIZER;CN="Comitato Disabilit%C3%A0 Municipio X APS":MAILTO:comitatodisabilitam10@gmail.com
END:VEVENT
END:VCALENDAR