BEGIN:VCALENDAR
VERSION:2.0
PRODID:-//Comitato Disabilità Municipio X - ECPv6.15.20//NONSGML v1.0//EN
CALSCALE:GREGORIAN
METHOD:PUBLISH
X-WR-CALNAME:Comitato Disabilità Municipio X
X-ORIGINAL-URL:https://www.comitatodisabilitam10.it
X-WR-CALDESC:Eventi per Comitato Disabilità Municipio X
REFRESH-INTERVAL;VALUE=DURATION:PT1H
X-Robots-Tag:noindex
X-PUBLISHED-TTL:PT1H
BEGIN:VTIMEZONE
TZID:Europe/Rome
BEGIN:DAYLIGHT
TZOFFSETFROM:+0100
TZOFFSETTO:+0200
TZNAME:CEST
DTSTART:20240331T010000
END:DAYLIGHT
BEGIN:STANDARD
TZOFFSETFROM:+0200
TZOFFSETTO:+0100
TZNAME:CET
DTSTART:20241027T010000
END:STANDARD
BEGIN:DAYLIGHT
TZOFFSETFROM:+0100
TZOFFSETTO:+0200
TZNAME:CEST
DTSTART:20250330T010000
END:DAYLIGHT
BEGIN:STANDARD
TZOFFSETFROM:+0200
TZOFFSETTO:+0100
TZNAME:CET
DTSTART:20251026T010000
END:STANDARD
BEGIN:DAYLIGHT
TZOFFSETFROM:+0100
TZOFFSETTO:+0200
TZNAME:CEST
DTSTART:20260329T010000
END:DAYLIGHT
BEGIN:STANDARD
TZOFFSETFROM:+0200
TZOFFSETTO:+0100
TZNAME:CET
DTSTART:20261025T010000
END:STANDARD
END:VTIMEZONE
BEGIN:VEVENT
DTSTART;TZID=Europe/Rome:20250406T150000
DTEND;TZID=Europe/Rome:20250406T180000
DTSTAMP:20260421T014031
CREATED:20250404T171058Z
LAST-MODIFIED:20250404T171210Z
UID:3759-1743951600-1743962400@www.comitatodisabilitam10.it
SUMMARY:EVENTO SULLA CONSAPEVOLEZZA DELL'AUTISMO
DESCRIPTION:Il ncostro Comitato sarà presente all’evento sulla CONSAPEVOLEZZA DELL’AUTISMO con tante attività inclusive e gratuite. \nCosa troverete? \n\n\nPet-Therapy con ANUCSS \n\n\nLaboratorio del riciclo con AMICO ASINO APS e OASI VERDE \n\n\nEsibizioni e corsi di skate su strutture facilmente trasportabili\, con il TEAM THE SPOT SKATEPARK e il supporto di un tutor. \n\n\nSaranno presenti molte altre associazioni con le loro iniziative\, per un evento dedicato all’inclusione e alla condivisione. \nVi aspettiamo.
URL:https://www.comitatodisabilitam10.it/eventi/evento-sulla-consapevolezza-dellautismo/
LOCATION:Parco Parco XXV Novembre 1884 (PIETRO ROSA)\, Viale della Pineta di Ostia\, 46\, Ostia\, RM\, 00122\, Italy
CATEGORIES:Tutti gli eventi del Comitato Disabilità Municipio X
ATTACH;FMTTYPE=image/jpeg:https://www.comitatodisabilitam10.it/wp-content/uploads/2025/04/consapevolezza_autismo.jpeg
ORGANIZER;CN="Comitato Disabilit%C3%A0 Municipio X APS":MAILTO:comitatodisabilitam10@gmail.com
END:VEVENT
END:VCALENDAR