BEGIN:VCALENDAR
VERSION:2.0
PRODID:-//Comitato Disabilità Municipio X - ECPv6.15.20//NONSGML v1.0//EN
CALSCALE:GREGORIAN
METHOD:PUBLISH
X-ORIGINAL-URL:https://www.comitatodisabilitam10.it
X-WR-CALDESC:Eventi per Comitato Disabilità Municipio X
REFRESH-INTERVAL;VALUE=DURATION:PT1H
X-Robots-Tag:noindex
X-PUBLISHED-TTL:PT1H
BEGIN:VTIMEZONE
TZID:Europe/Rome
BEGIN:DAYLIGHT
TZOFFSETFROM:+0100
TZOFFSETTO:+0200
TZNAME:CEST
DTSTART:20240331T010000
END:DAYLIGHT
BEGIN:STANDARD
TZOFFSETFROM:+0200
TZOFFSETTO:+0100
TZNAME:CET
DTSTART:20241027T010000
END:STANDARD
BEGIN:DAYLIGHT
TZOFFSETFROM:+0100
TZOFFSETTO:+0200
TZNAME:CEST
DTSTART:20250330T010000
END:DAYLIGHT
BEGIN:STANDARD
TZOFFSETFROM:+0200
TZOFFSETTO:+0100
TZNAME:CET
DTSTART:20251026T010000
END:STANDARD
BEGIN:DAYLIGHT
TZOFFSETFROM:+0100
TZOFFSETTO:+0200
TZNAME:CEST
DTSTART:20260329T010000
END:DAYLIGHT
BEGIN:STANDARD
TZOFFSETFROM:+0200
TZOFFSETTO:+0100
TZNAME:CET
DTSTART:20261025T010000
END:STANDARD
END:VTIMEZONE
BEGIN:VEVENT
DTSTART;TZID=Europe/Rome:20251220T150000
DTEND;TZID=Europe/Rome:20251220T180000
DTSTAMP:20260420T132308
CREATED:20251211T143440Z
LAST-MODIFIED:20251211T143440Z
UID:3921-1766242800-1766253600@www.comitatodisabilitam10.it
SUMMARY:"PADRI" - FESTA DI NATALE 2025
DESCRIPTION:Il Comitato è lieto di invitarvi alla tradizionale Festa di Natale 2025 e alla presentazione della suo ultima produzione cinematografica. \nDopo il successo di “La Lingua degli Alieni” e “ATTRAVERSO TE\, Storie di Siblings“\, il CDMX APS presenta la sua nuova opera breve: “PADRI”\, cortometraggio ideato e diretto dalla nostra Vice Presidente Pamela Pompei\, con le voci narranti di Enrico Brignano\, Angelo Maggi e Alessandro Campaiola. \nQuesta pellicola è stata realizzata per dare voce ed esplorare il tema complesso dei padri di figli con disabilità. La visione sarà accompagnata da una mostra fotografica che esplora il conflitto interiore\, narrando storie di sentimenti contrastanti e forti. \nLa visone di PADRI sarà l’occasione per celebrare insieme il Natale! La nostra associazione vi invita a partecipare ai festeggiamenti che da tradizione includeranno: \n\n\nL’emozionante esibizione del nostro CORO. \n\n\nMusica e divertimento per tutti. \n\n\nL’arrivo di Babbo Natale e l’intrattenimento Truccabimbi. \n\n\nLa nostra consueta riffa annuale. \n\n\nDolci e un brindisi finale per festeggiare in compagnia! \n\n\nVi preghiamo di consultare la locandina allegata per il programma dettagliato. \nVI ASPETTIAMO NUMEROSI!
URL:https://www.comitatodisabilitam10.it/eventi/padri-festa-di-natale-2025/
LOCATION:MOOD\, Piazza della Stazione Vecchia\, Roma\, RM\, 00121\, Italy
CATEGORIES:Tutti gli eventi del Comitato Disabilità Municipio X
ATTACH;FMTTYPE=image/jpeg:https://www.comitatodisabilitam10.it/wp-content/uploads/2025/12/Festa_Natale_2025_Padri.jpeg
ORGANIZER;CN="Comitato Disabilit%C3%A0 Municipio X APS":MAILTO:comitatodisabilitam10@gmail.com
END:VEVENT
END:VCALENDAR