BEGIN:VCALENDAR
VERSION:2.0
PRODID:-//Comitato Disabilità Municipio X - ECPv6.15.20//NONSGML v1.0//EN
CALSCALE:GREGORIAN
METHOD:PUBLISH
X-WR-CALNAME:Comitato Disabilità Municipio X
X-ORIGINAL-URL:https://www.comitatodisabilitam10.it
X-WR-CALDESC:Eventi per Comitato Disabilità Municipio X
REFRESH-INTERVAL;VALUE=DURATION:PT1H
X-Robots-Tag:noindex
X-PUBLISHED-TTL:PT1H
BEGIN:VTIMEZONE
TZID:Europe/Rome
BEGIN:DAYLIGHT
TZOFFSETFROM:+0100
TZOFFSETTO:+0200
TZNAME:CEST
DTSTART:20160327T010000
END:DAYLIGHT
BEGIN:STANDARD
TZOFFSETFROM:+0200
TZOFFSETTO:+0100
TZNAME:CET
DTSTART:20161030T010000
END:STANDARD
BEGIN:DAYLIGHT
TZOFFSETFROM:+0100
TZOFFSETTO:+0200
TZNAME:CEST
DTSTART:20170326T010000
END:DAYLIGHT
BEGIN:STANDARD
TZOFFSETFROM:+0200
TZOFFSETTO:+0100
TZNAME:CET
DTSTART:20171029T010000
END:STANDARD
BEGIN:DAYLIGHT
TZOFFSETFROM:+0100
TZOFFSETTO:+0200
TZNAME:CEST
DTSTART:20180325T010000
END:DAYLIGHT
BEGIN:STANDARD
TZOFFSETFROM:+0200
TZOFFSETTO:+0100
TZNAME:CET
DTSTART:20181028T010000
END:STANDARD
BEGIN:DAYLIGHT
TZOFFSETFROM:+0100
TZOFFSETTO:+0200
TZNAME:CEST
DTSTART:20190331T010000
END:DAYLIGHT
BEGIN:STANDARD
TZOFFSETFROM:+0200
TZOFFSETTO:+0100
TZNAME:CET
DTSTART:20191027T010000
END:STANDARD
END:VTIMEZONE
BEGIN:VEVENT
DTSTART;TZID=Europe/Rome:20180523T103000
DTEND;TZID=Europe/Rome:20180523T133000
DTSTAMP:20260420T211850
CREATED:20180518T130021Z
LAST-MODIFIED:20180518T131030Z
UID:927-1527071400-1527082200@www.comitatodisabilitam10.it
SUMMARY:La scuola inclusiva attraverso la proiezione de "La lingua degli ALIENI" presso l'Istituto Giovanni Paolo II
DESCRIPTION:Il giorno mercoledì 23 maggio 2018\, presso l’Istituto Giovanni Paolo II\, il nostro comitato sarà presente con la proiezione del cortometraggio “La lingua degli Alieni“\, alla quale parteciperanno: Germana Paoletti\, assessore delle Politiche Sociali ed Educative del X Municipio; Manuela Campitelli\, blogger de ‘Il Fatto Quotidiano‘; Pamela Pompei autrice del cortometraggio; Emanuela Borin\, presidente del Comitato Disabilità Municipio X. \nInizio proiezione ore 10:30 presso il teatro dell’Istituto.
URL:https://www.comitatodisabilitam10.it/eventi/proiezione-la-lingua-degli-alieni-allistituto-giovanni-paolo-ii/
LOCATION:Istituto Giovanni Paolo II\, Corso Duca di Genova\, 157\, Roma\, Roma\, 00121\, Italia
CATEGORIES:Tutti gli eventi del Comitato Disabilità Municipio X
ATTACH;FMTTYPE=image/jpeg:https://www.comitatodisabilitam10.it/wp-content/uploads/2018/05/evento-merc-23-maggio-e1526648507446.jpeg
ORGANIZER;CN="Comitato Disabilit%C3%A0 Municipio X APS":MAILTO:comitatodisabilitam10@gmail.com
END:VEVENT
BEGIN:VEVENT
DTSTART;TZID=Europe/Rome:20180521T090000
DTEND;TZID=Europe/Rome:20180521T133000
DTSTAMP:20260420T211850
CREATED:20180516T143203Z
LAST-MODIFIED:20180518T105657Z
UID:914-1526893200-1526909400@www.comitatodisabilitam10.it
SUMMARY:Proiezione La lingua degli ALIENI all'Istituto Carlo Urbani
DESCRIPTION:Il giorno lunedì 21 maggio 2018\, presso l’Istituto Carlo Urbani\, il nostro comitato sarà presente con la proiezione del cortometraggio “La lingua degli Alieni“\, alla quale parteciperà anche l’autrice Pamela Pompei. L’evento è aperto esclusivamente al personale ed agli studenti della scuola. \nInizio proiezione ore 9:00\, repliche fino alle 13:30.
URL:https://www.comitatodisabilitam10.it/eventi/proiezione-cortometraggio-la-lingua-degli-alieni/
LOCATION:Aula Magna I.I.S. Carlo Urbani\, Via dell'idroscalo 88\, Roma\, 00121\, Italia
CATEGORIES:Tutti gli eventi del Comitato Disabilità Municipio X
ATTACH;FMTTYPE=image/jpeg:https://www.comitatodisabilitam10.it/wp-content/uploads/2018/05/evento-21052018.jpg
ORGANIZER;CN="Comitato Disabilit%C3%A0 Municipio X APS":MAILTO:comitatodisabilitam10@gmail.com
END:VEVENT
BEGIN:VEVENT
DTSTART;TZID=Europe/Rome:20180512T150000
DTEND;TZID=Europe/Rome:20180512T173000
DTSTAMP:20260420T211850
CREATED:20180509T062341Z
LAST-MODIFIED:20180509T062714Z
UID:901-1526137200-1526146200@www.comitatodisabilitam10.it
SUMMARY:Assemblea annuale dei soci 2018
DESCRIPTION:Il 12 maggio alle 15.00 presso la sala della Chiesa Regina Pacis di Ostia si terrà l’assemblea annuale del Comitato Disabilità Municipio X. È molto importante la partecipazione di tutti i soci\, che hanno ricevuto via mail tutte le informazioni riguardanti l’assemblea.\nVi aspettiamo numerosi\, non mancate!
URL:https://www.comitatodisabilitam10.it/eventi/assemblea-annuale-dei-soci-2018/
LOCATION:Chiesa Regina Pacis\, Piazza Regina Pacis\, 13\, Roma\, Roma\, 00122\, Italia
CATEGORIES:Tutti gli eventi del Comitato Disabilità Municipio X
ATTACH;FMTTYPE=image/jpeg:https://www.comitatodisabilitam10.it/wp-content/uploads/2018/05/assemblea-annuale.jpeg
ORGANIZER;CN="Comitato Disabilit%C3%A0 Municipio X APS":MAILTO:comitatodisabilitam10@gmail.com
END:VEVENT
BEGIN:VEVENT
DTSTART;TZID=Europe/Rome:20180507T163000
DTEND;TZID=Europe/Rome:20180507T183000
DTSTAMP:20260420T211850
CREATED:20180426T171742Z
LAST-MODIFIED:20180427T132849Z
UID:727-1525710600-1525717800@www.comitatodisabilitam10.it
SUMMARY:Seminario e dibattito sul tema: "La scuola inclusiva"
DESCRIPTION:Lunedì 7 maggio 2018 alle ore 16.30 parteciperemo al seminario e dibattito sul tema: “La scuola inclusiva“\, che avverrà successivamente alla proiezione del cortometraggio “La lingua degli ALIENI“.  All’evento parteciperà anche l’assessore alla scuola e politiche sociali del Municipio X\, Germana Paoletti.
URL:https://www.comitatodisabilitam10.it/eventi/seminario-e-dibattito-sul-tema-la-scuola-inclusiva/
LOCATION:Aula Magna I.C. Vega\, Viale Vega 91\, Roma\, Roma\, 00122\, Italy
CATEGORIES:Tutti gli eventi del Comitato Disabilità Municipio X
ATTACH;FMTTYPE=image/jpeg:https://www.comitatodisabilitam10.it/wp-content/uploads/2018/04/evento-lun-7-maggio.jpeg
ORGANIZER;CN="Comitato Disabilit%C3%A0 Municipio X APS":MAILTO:comitatodisabilitam10@gmail.com
END:VEVENT
BEGIN:VEVENT
DTSTART;TZID=Europe/Rome:20180502T080000
DTEND;TZID=Europe/Rome:20180502T123000
DTSTAMP:20260420T211850
CREATED:20180424T061307Z
LAST-MODIFIED:20180424T104542Z
UID:702-1525248000-1525264200@www.comitatodisabilitam10.it
SUMMARY:Incontro con il Santo Padre Papa Francesco I
DESCRIPTION:La mattina di mercoledì 2 Maggio\, alle ore 08.00 in Piazza S. Pietro\, un gruppo del nostro Comitato sarà ricevuto in udienza dal Santo Padre\, Papa Francesco I.
URL:https://www.comitatodisabilitam10.it/eventi/incontro-con-il-santo-padre-papa-francesco-i/
LOCATION:Piazza San Pietro\, Piazza San Pietro\, Città del Vaticano\, 00120\, Holy See (Vatican City State)
CATEGORIES:Tutti gli eventi del Comitato Disabilità Municipio X
ATTACH;FMTTYPE=image/jpeg:https://www.comitatodisabilitam10.it/wp-content/uploads/2018/04/papa-francisco.jpg
END:VEVENT
BEGIN:VEVENT
DTSTART;TZID=Europe/Rome:20180501T161500
DTEND;TZID=Europe/Rome:20180501T181500
DTSTAMP:20260420T211850
CREATED:20180430T080042Z
LAST-MODIFIED:20180501T153122Z
UID:809-1525191300-1525198500@www.comitatodisabilitam10.it
SUMMARY:Canale 10: (REPLICA) partecipazione alla trasmissione "State comodi"
DESCRIPTION:Siete tutti invitati ad assistere alla trasmissione di Canale 10 “State Comodi“. Il tema della serata è “I VOLONTARI DEL LITORALE ROMANO” ed il nostro Comitato Disabilità Municipio X è intervenuto come ospite per parlare di ciò che realizza quotidianamente sul proprio territorio insieme a tanti altri ospiti\, tra cui l’assessore alle politiche sociali educative del Municipio X\, Germana Paoletti. \n Emanuela Borin e Pamela Pompei saranno presenti nella seconda parte della trasmissione per il COMITATO DISABILITA’ MUNICIPIO X ed il nostro cortometraggio La lingua degli Alieni. \nUn ringraziamento particolare al conduttore Carlo Senes che ci ha dato la possibilità di portare la nostra voce anche in televisione.
URL:https://www.comitatodisabilitam10.it/eventi/canale-10-replica-partecipazione-alla-trasmissione-state-comodi-2/
LOCATION:Canale 10
CATEGORIES:Tutti gli eventi del Comitato Disabilità Municipio X
ATTACH;FMTTYPE=image/png:https://www.comitatodisabilitam10.it/wp-content/uploads/2018/04/logo-c10.png
END:VEVENT
BEGIN:VEVENT
DTSTART;TZID=Europe/Rome:20180429T115000
DTEND;TZID=Europe/Rome:20180429T135000
DTSTAMP:20260420T211850
CREATED:20180428T080009Z
LAST-MODIFIED:20180427T133210Z
UID:806-1525002600-1525009800@www.comitatodisabilitam10.it
SUMMARY:Canale 10: (REPLICA) partecipazione alla trasmissione "State comodi"
DESCRIPTION:Siete tutti invitati ad assistere alla trasmissione di Canale 10 “State Comodi“. Il tema della serata è “I VOLONTARI DEL LITORALE ROMANO” ed il nostro Comitato Disabilità Municipio X è intervenuto come ospite per parlare di ciò che realizza quotidianamente sul proprio territorio insieme a tanti altri ospiti\, tra cui l’assessore alle politiche sociali educative del Municipio X\, Germana Paoletti. \n Emanuela Borin e Pamela Pompei saranno presenti nella seconda parte della trasmissione per il COMITATO DISABILITA’ MUNICIPIO X ed il nostro cortometraggio La lingua degli Alieni. \nUn ringraziamento particolare al conduttore Carlo Senes che ci ha dato la possibilità di portare la nostra voce anche in televisione.
URL:https://www.comitatodisabilitam10.it/eventi/canale-10-replica-partecipazione-alla-trasmissione-state-comodi/
LOCATION:Canale 10
CATEGORIES:Tutti gli eventi del Comitato Disabilità Municipio X
ATTACH;FMTTYPE=image/png:https://www.comitatodisabilitam10.it/wp-content/uploads/2018/04/logo-c10.png
END:VEVENT
BEGIN:VEVENT
DTSTART;TZID=Europe/Rome:20180427T210000
DTEND;TZID=Europe/Rome:20180427T223000
DTSTAMP:20260420T211850
CREATED:20180427T125533Z
LAST-MODIFIED:20180427T125533Z
UID:794-1524862800-1524868200@www.comitatodisabilitam10.it
SUMMARY:Canale 10: partecipazione alla trasmissione "State comodi"
DESCRIPTION:Siete tutti invitati questa sera alle ore 21:00 davanti alla tv per assistere alla trasmissione di Canale 10 “State Comodi“. Il tema della serata è “I VOLONTARI DEL LITORALE ROMANO” ed il nostro Comitato Disabilità Municipio X è intervenuto come ospite per parlare di ciò che realizza quotidianamente sul proprio territorio insieme a tanti altri ospiti\, tra cui l’assessore alle politiche sociali educative del Municipio X\, Germana Paoletti. \n Emanuela Borin e Pamela Pompei saranno presenti nella seconda parte della trasmissione per il COMITATO DISABILITA’ MUNICIPIO X ed il nostro cortometraggio La lingua degli Alieni. \nUn ringraziamento particolare al conduttore Carlo Senes che ci ha dato la possibilità di portare la nostra voce anche in televisione.\nRepliche: domenica ore 11.50 – martedì ore 16.15.
URL:https://www.comitatodisabilitam10.it/eventi/canale-10-partecipazione-alla-trasmissione-state-comodi/
LOCATION:Canale 10
CATEGORIES:Tutti gli eventi del Comitato Disabilità Municipio X
ATTACH;FMTTYPE=image/png:https://www.comitatodisabilitam10.it/wp-content/uploads/2018/04/logo-c10.png
END:VEVENT
BEGIN:VEVENT
DTSTART;TZID=Europe/Rome:20180425T110000
DTEND;TZID=Europe/Rome:20180425T130000
DTSTAMP:20260420T211850
CREATED:20180423T071255Z
LAST-MODIFIED:20180424T113342Z
UID:615-1524654000-1524661200@www.comitatodisabilitam10.it
SUMMARY:Villaggio per la Terra
DESCRIPTION:Parteciperemo al Villaggio per la Terra\, la manifestazione ambientale più partecipata d’Italia\, nata per promuovere la formazione di una nuova coscienza ambientale attraverso una rete di dialogo tra i tanti soggetti che si occupano della salvaguardia del Pianeta. L’evento prevederà 5 giorni di sport\, concerti\, esposizioni\, mostre\, convegni\, spettacoli\, laboratori didattici\, attività per bambini oltre la possibilità di assaporare del buon cibo. \nLa Federazione FIRST (Federazione Italiana Rete Sostegno e Tutela dei diritti delle persone con disabilità) presenterà una serie di interventi su vari temi e collaborazioni: \n\npresentazione COMITATO DISABILITA’ MUNICIPIO X con proiezione del video “LA LINGUA DEGLI ALIENI”\npresentazione BLINDSIGHT\, con proiezione di uno SPOT SUI CANI GUIDA\npresentazione UNIPHELAN\, con proiezione del video “COME UNA BOLLA DI SAPONE”\npresentazione SINDROME DI WILLIAMS LAZIO\, con proiezione di “FACCIAMOCI RICONOSCERE” e con presentazione del libro IL BRUCHINO E LA FARFALLA a cura dell’autrice Mirella Borneto.\nHAPPY TIME INFERNETTO ONLUS con video di presentazione\nANUCSS con video UN CUORE e workshop di pet therapy. Interverranno due cani con i propri addestratori ed interagiranno con i bambini della piazza.\n\n  \n  \n 
URL:https://www.comitatodisabilitam10.it/eventi/villaggio-per-la-terra/
LOCATION:Villa Borghese\, Villa Borghese\, Piazzale Napoleone I\, Roma\, Roma\, 00197\, Italy
CATEGORIES:Tutti gli eventi del Comitato Disabilità Municipio X
ATTACH;FMTTYPE=image/jpeg:https://www.comitatodisabilitam10.it/wp-content/uploads/2018/04/IMG-20180419-WA0034.jpg
END:VEVENT
BEGIN:VEVENT
DTSTART;TZID=Europe/Rome:20180421T103000
DTEND;TZID=Europe/Rome:20180421T150000
DTSTAMP:20260420T211850
CREATED:20180417T125342Z
LAST-MODIFIED:20180417T125342Z
UID:513-1524306600-1524322800@www.comitatodisabilitam10.it
SUMMARY:Roma Best Practices Award
DESCRIPTION:Mamma Roma e i suoi figli minori\nTra i candidati c’è anche il nostro Comitato Disabilita’ Municipio X con il cortometraggio “La lingua degli ALIENI“!
URL:https://www.comitatodisabilitam10.it/eventi/roma-best-practices-award/
LOCATION:Dipartimento Architettura dell’Università degli Studi Roma Tre\, Largo Giovanni Battista Marzi\, 10\, Roma\, Roma\, 00153\, Italy
CATEGORIES:Tutti gli eventi del Comitato Disabilità Municipio X
ATTACH;FMTTYPE=image/jpeg:https://www.comitatodisabilitam10.it/wp-content/uploads/2018/04/Roma_Best_Pratics_Award.jpg
END:VEVENT
BEGIN:VEVENT
DTSTART;TZID=Europe/Rome:20180417T090000
DTEND;TZID=Europe/Rome:20180417T110000
DTSTAMP:20260420T211850
CREATED:20180412T110628Z
LAST-MODIFIED:20180417T131316Z
UID:427-1523955600-1523962800@www.comitatodisabilitam10.it
SUMMARY:Diversità e Inclusione
DESCRIPTION:Il 17 Aprile 2018\, il CDMX sarà presente a Catania per portare il cortometraggio “La lingua degli Alieni” nelle scuole del territorio. Siamo fieri di questo altro importante traguardo! La nostra presidente Emanuela Borin e la nostra Pamela Pompei saranno presenti all’evento\, non solo per la proiezione del video\, ma anche per un colloquio diretto con gli alunni\, i dirigenti scolastici\, i professori e le realtà della scuola rispetto alla Disabilità ed alla Diversità!
URL:https://www.comitatodisabilitam10.it/eventi/diversita-e-inclusione/
LOCATION:Teatro Machiavelli\, Piazza Università\, Catania\, Catania\, 95124\, Italy
CATEGORIES:Tutti gli eventi del Comitato Disabilità Municipio X
ATTACH;FMTTYPE=image/jpeg:https://www.comitatodisabilitam10.it/wp-content/uploads/2018/04/teatro-machiavelli.jpg
END:VEVENT
BEGIN:VEVENT
DTSTART;TZID=Europe/Rome:20180412T110000
DTEND;TZID=Europe/Rome:20180412T120000
DTSTAMP:20260420T211850
CREATED:20180412T105824Z
LAST-MODIFIED:20180412T110824Z
UID:423-1523530800-1523534400@www.comitatodisabilitam10.it
SUMMARY:Intervento a RADIO RADIO 104.5
DESCRIPTION:Giovedì 12 Aprile 2018\, Emanuela Borin e Pamela Pompei del Comitati Disabilità Municipio X parteciperanno alla registrazione della trasmissione “Nome della trasmissione” su RADIO RADIO 104.5\, dove presenteranno il video “La lingua delgi ALIENI”.
URL:https://www.comitatodisabilitam10.it/eventi/intervento-a-radio-radio-104-5/
LOCATION:RADIO RADIO 104.5\, Via Olindo Guerrini\, 20\, Roma\, Roma\, 00137\, Italy
CATEGORIES:Tutti gli eventi del Comitato Disabilità Municipio X
ATTACH;FMTTYPE=image/jpeg:https://www.comitatodisabilitam10.it/wp-content/uploads/2018/04/radio-radio.jpg
END:VEVENT
BEGIN:VEVENT
DTSTART;TZID=Europe/Rome:20180316T080000
DTEND;TZID=Europe/Rome:20180317T170000
DTSTAMP:20260420T211850
CREATED:20180423T154721Z
LAST-MODIFIED:20180424T103533Z
UID:686-1521187200-1521306000@www.comitatodisabilitam10.it
SUMMARY:Festival della cultura per ragazzi "Vola libro" - X edizione
DESCRIPTION:Ed eccoci qua! Il nostro cortometraggio “La lingua degli Alieni” atterra in Sicilia\, in provincia di Siracusa\, al Festival della cultura per ragazzi “Vola libro”\, a Noto. Due appuntamenti per la proiezione. Venerdì 16 e Sabato 17 Marzo. 
URL:https://www.comitatodisabilitam10.it/eventi/festival-della-cultura-per-ragazzi-vola-libro-x-edizione/
LOCATION:Ass. Turistica Pro Noto\, via Gioberti\, 13 ()\, Noto\, Siracusa\, 96017\, Italy
CATEGORIES:Tutti gli eventi del Comitato Disabilità Municipio X
ATTACH;FMTTYPE=image/jpeg:https://www.comitatodisabilitam10.it/wp-content/uploads/2018/04/volalibro.jpeg
ORGANIZER;CN="ASSOCIAZIONE TURISTICA PRO NOTO":MAILTO:pronoto@alice.it
END:VEVENT
BEGIN:VEVENT
DTSTART;TZID=Europe/Rome:20171218T163000
DTEND;TZID=Europe/Rome:20171218T180000
DTSTAMP:20260420T211850
CREATED:20171118T164817Z
LAST-MODIFIED:20180424T103624Z
UID:691-1513614600-1513620000@www.comitatodisabilitam10.it
SUMMARY:Costituzione Gruppo Auto Mutuo Aiuto
DESCRIPTION:Il COMITATO ha il piacere di invitarvi alla presentazione del gruppo di AUTO-MUTUO-AIUTO per genitori di figli con disabilità\, tenuto dalla psicologa dott.ssa Flavia Cantarella. L’appuntamento è fissato per il 18 novembre alle ore 16.30 a Dragoncello c/o la parrocchia SS Cirillo e Metodio.\nLa dott.ssa spiegherà in cosa consiste e come funziona l’auto-mutuo-aiuto. Inoltre raccoglieremo le adesioni per avviare un piccolo gruppo di lavoro basato su tali principi. Come sempre\, per aderire\, potete scrivere alla nostra mail comitatodisabilitam10@gmail.com Vi aspettiamo numerosi!
URL:https://www.comitatodisabilitam10.it/eventi/costituzione-gruppo-auto-mutuo-aiuto/
LOCATION:Parrochia S.S. Cirillo e Metodio\, Via dell'osteria di dragoncello 12\, Roma\, Roma\, 00126\, Italy
CATEGORIES:Tutti gli eventi del Comitato Disabilità Municipio X
ATTACH;FMTTYPE=image/jpeg:https://www.comitatodisabilitam10.it/wp-content/uploads/2018/04/ama.jpg
ORGANIZER;CN="Comitato Disabilit%C3%A0 Municipio X APS":MAILTO:comitatodisabilitam10@gmail.com
END:VEVENT
BEGIN:VEVENT
DTSTART;TZID=Europe/Rome:20171217T143000
DTEND;TZID=Europe/Rome:20171217T180000
DTSTAMP:20260420T211850
CREATED:20180424T062333Z
LAST-MODIFIED:20180424T103625Z
UID:707-1513521000-1513533600@www.comitatodisabilitam10.it
SUMMARY:Festa di Natale del 17 Dicembre 2017
DESCRIPTION:Il 17 dicembre 2017 il Comitato organizza la festa di Natale presso la chiesa S. Nicola di Bari ad Ostia\, in Via Passeroni 1. La festa è stata anche l’occasione per presentare il cortometraggio musicale “La lingua degli ALIENI“\, realizzato dai ragazzi del CDMX con il patrocinio del Comune di Roma.  \nGrazie a tutti coloro che parteciperanno alla festa. \nBuon Natale a tutti!
URL:https://www.comitatodisabilitam10.it/eventi/festa-di-natale-del-17-dicembre-2017/
LOCATION:Parrocchia S. Nicola di Bari\, Via G. Passeroni 1\, Roma\, Roma\, 00122\, Italia
CATEGORIES:Tutti gli eventi del Comitato Disabilità Municipio X
END:VEVENT
END:VCALENDAR