BEGIN:VCALENDAR
VERSION:2.0
PRODID:-//Comitato Disabilità Municipio X - ECPv6.15.20//NONSGML v1.0//EN
CALSCALE:GREGORIAN
METHOD:PUBLISH
X-ORIGINAL-URL:https://www.comitatodisabilitam10.it
X-WR-CALDESC:Eventi per Comitato Disabilità Municipio X
REFRESH-INTERVAL;VALUE=DURATION:PT1H
X-Robots-Tag:noindex
X-PUBLISHED-TTL:PT1H
BEGIN:VTIMEZONE
TZID:Europe/Rome
BEGIN:DAYLIGHT
TZOFFSETFROM:+0100
TZOFFSETTO:+0200
TZNAME:CEST
DTSTART:20200329T010000
END:DAYLIGHT
BEGIN:STANDARD
TZOFFSETFROM:+0200
TZOFFSETTO:+0100
TZNAME:CET
DTSTART:20201025T010000
END:STANDARD
BEGIN:DAYLIGHT
TZOFFSETFROM:+0100
TZOFFSETTO:+0200
TZNAME:CEST
DTSTART:20210328T010000
END:DAYLIGHT
BEGIN:STANDARD
TZOFFSETFROM:+0200
TZOFFSETTO:+0100
TZNAME:CET
DTSTART:20211031T010000
END:STANDARD
BEGIN:DAYLIGHT
TZOFFSETFROM:+0100
TZOFFSETTO:+0200
TZNAME:CEST
DTSTART:20220327T010000
END:DAYLIGHT
BEGIN:STANDARD
TZOFFSETFROM:+0200
TZOFFSETTO:+0100
TZNAME:CET
DTSTART:20221030T010000
END:STANDARD
END:VTIMEZONE
BEGIN:VEVENT
DTSTART;TZID=Europe/Rome:20210305T173000
DTEND;TZID=Europe/Rome:20210305T200000
DTSTAMP:20260425T184354
CREATED:20210301T063659Z
LAST-MODIFIED:20210301T064636Z
UID:2449-1614965400-1614974400@www.comitatodisabilitam10.it
SUMMARY:Proposta di Legge internalizzazione Assistenti alla Autonomia e Comunicazione
DESCRIPTION:Il Comitato Disabilità Municipio X\, come associazione aderente alla FIRST (Federazione Italiana Rete Sostegno e Tutela dei diritti delle persone con disabilità)\, ti invita al webinar First sulla Proposta di Legge internalizzazione Assistenti alla Autonomia e Comunicazione che si terrà venerdì 5 marzo 2021 alle 17.30. \nDi seguito chi interverrà al webinar\, dove sarà presente l’interprete LIS. \n \nDiretta streaming sul canale YouTube della FIRST:
URL:https://www.comitatodisabilitam10.it/eventi/proposta-di-legge-internalizzazione-assistenti-alla-autonomia-e-comunicazione/
LOCATION:Youtube
CATEGORIES:Tutti gli eventi del Comitato Disabilità Municipio X
ATTACH;FMTTYPE=image/jpeg:https://www.comitatodisabilitam10.it/wp-content/uploads/2018/02/first.jpg
ORGANIZER;CN="Federazione Italiana Rete Sostegno e Tutela (F.I.R.S.T.)":MAILTO:firstfederazione65@gmail.com
END:VEVENT
END:VCALENDAR