BEGIN:VCALENDAR
VERSION:2.0
PRODID:-//Comitato Disabilità Municipio X - ECPv6.15.20//NONSGML v1.0//EN
CALSCALE:GREGORIAN
METHOD:PUBLISH
X-WR-CALNAME:Comitato Disabilità Municipio X
X-ORIGINAL-URL:https://www.comitatodisabilitam10.it
X-WR-CALDESC:Eventi per Comitato Disabilità Municipio X
REFRESH-INTERVAL;VALUE=DURATION:PT1H
X-Robots-Tag:noindex
X-PUBLISHED-TTL:PT1H
BEGIN:VTIMEZONE
TZID:Europe/Rome
BEGIN:DAYLIGHT
TZOFFSETFROM:+0100
TZOFFSETTO:+0200
TZNAME:CEST
DTSTART:20220327T010000
END:DAYLIGHT
BEGIN:STANDARD
TZOFFSETFROM:+0200
TZOFFSETTO:+0100
TZNAME:CET
DTSTART:20221030T010000
END:STANDARD
BEGIN:DAYLIGHT
TZOFFSETFROM:+0100
TZOFFSETTO:+0200
TZNAME:CEST
DTSTART:20230326T010000
END:DAYLIGHT
BEGIN:STANDARD
TZOFFSETFROM:+0200
TZOFFSETTO:+0100
TZNAME:CET
DTSTART:20231029T010000
END:STANDARD
BEGIN:DAYLIGHT
TZOFFSETFROM:+0100
TZOFFSETTO:+0200
TZNAME:CEST
DTSTART:20240331T010000
END:DAYLIGHT
BEGIN:STANDARD
TZOFFSETFROM:+0200
TZOFFSETTO:+0100
TZNAME:CET
DTSTART:20241027T010000
END:STANDARD
END:VTIMEZONE
BEGIN:VEVENT
DTSTART;TZID=Europe/Rome:20230104T173000
DTEND;TZID=Europe/Rome:20230104T193000
DTSTAMP:20260423T094309
CREATED:20221230T143310Z
LAST-MODIFIED:20221230T145952Z
UID:3015-1672853400-1672860600@www.comitatodisabilitam10.it
SUMMARY:C'ERA UNA VOLTA…2023\, mostra alla Protomoteca del Campidoglio
DESCRIPTION:Mostra fotografica e presentazione del nostro calendario C’ERA UNA VOLTA …2023 presso la Sala della Protomoteca del Campidoglio. \nInterverranno le nostre Emanuela Borin e Pamela Pompei\, rispettivamente Presidente e vice Presidente del nostro Comitato\, più diversi esponenti dell’amministrazione capitolina. Nella locandina i dettagli.
URL:https://www.comitatodisabilitam10.it/eventi/cera-una-volta2023-mostra-alla-protomoteca-del-campidoglio/
LOCATION:Sala della Protomoteca del Campidoglio\, Musei Capitolini\, Campidoglio\, Roma\, RM\, 00186\, Italia
CATEGORIES:Tutti gli eventi del Comitato Disabilità Municipio X
ATTACH;FMTTYPE=image/jpeg:https://www.comitatodisabilitam10.it/wp-content/uploads/2022/12/calendario-protomoteca-campidoglio.jpeg
ORGANIZER;CN="Comitato Disabilit%C3%A0 Municipio X APS":MAILTO:comitatodisabilitam10@gmail.com
END:VEVENT
BEGIN:VEVENT
DTSTART;TZID=Europe/Rome:20230107T110000
DTEND;TZID=Europe/Rome:20230107T130000
DTSTAMP:20260423T094309
CREATED:20230105T161845Z
LAST-MODIFIED:20230105T165226Z
UID:3031-1673089200-1673096400@www.comitatodisabilitam10.it
SUMMARY:CHIUSURA PROGETTO EAA
DESCRIPTION:Evento di chiusura del progetto di Attività ed Educazione Assistita con gli Animali (EAA)  dove mostreremo le competenze acquisite dai partecipanti nella relazione con gli animali. Organizzato con la collaborazione di Associazioni Sportive Italiane\, le attività hanno avuto ad inizio ad ottobre 2022. \nNella locandina tutte le informazioni\, mentre a questa pagina alcuni scatti delle attività svolte che hanno coinvolto i ragazzi del Comitato. \nL’evento è aperto a tutti! Tutti i partecipanti\, adulti\, ragazzi e bambini\, potranno entrare in contatto con gli animali ed interagire con loro\, nel loro ambiente\, in un posto meraviglioso. \nUn ringraziamento speciale va a Esso Italiana SRL che ha completamente finanziato il nostro progetto e che\, per la terza volta\, sostiene una delle nostre iniziative finalizzate alle attività per i nostri ragazzi. \nScarica la scheda del progetto.
URL:https://www.comitatodisabilitam10.it/eventi/chiusura-progetto-eea/
LOCATION:Centro Specializzato ASI\, Via Appia Nuova\, 1245\, Roma\, RM\, 00178\, Italia
CATEGORIES:Tutti gli eventi del Comitato Disabilità Municipio X
ATTACH;FMTTYPE=image/jpeg:https://www.comitatodisabilitam10.it/wp-content/uploads/2023/01/evento-7-gennaio-2023.jpeg
ORGANIZER;CN="Comitato Disabilit%C3%A0 Municipio X APS":MAILTO:comitatodisabilitam10@gmail.com
END:VEVENT
END:VCALENDAR