BEGIN:VCALENDAR
VERSION:2.0
PRODID:-//Comitato Disabilità Municipio X - ECPv6.15.20//NONSGML v1.0//EN
CALSCALE:GREGORIAN
METHOD:PUBLISH
X-ORIGINAL-URL:https://www.comitatodisabilitam10.it
X-WR-CALDESC:Eventi per Comitato Disabilità Municipio X
REFRESH-INTERVAL;VALUE=DURATION:PT1H
X-Robots-Tag:noindex
X-PUBLISHED-TTL:PT1H
BEGIN:VTIMEZONE
TZID:Europe/Rome
BEGIN:DAYLIGHT
TZOFFSETFROM:+0100
TZOFFSETTO:+0200
TZNAME:CEST
DTSTART:20230326T010000
END:DAYLIGHT
BEGIN:STANDARD
TZOFFSETFROM:+0200
TZOFFSETTO:+0100
TZNAME:CET
DTSTART:20231029T010000
END:STANDARD
BEGIN:DAYLIGHT
TZOFFSETFROM:+0100
TZOFFSETTO:+0200
TZNAME:CEST
DTSTART:20240331T010000
END:DAYLIGHT
BEGIN:STANDARD
TZOFFSETFROM:+0200
TZOFFSETTO:+0100
TZNAME:CET
DTSTART:20241027T010000
END:STANDARD
BEGIN:DAYLIGHT
TZOFFSETFROM:+0100
TZOFFSETTO:+0200
TZNAME:CEST
DTSTART:20250330T010000
END:DAYLIGHT
BEGIN:STANDARD
TZOFFSETFROM:+0200
TZOFFSETTO:+0100
TZNAME:CET
DTSTART:20251026T010000
END:STANDARD
END:VTIMEZONE
BEGIN:VEVENT
DTSTART;TZID=Europe/Rome:20241103T090000
DTEND;TZID=Europe/Rome:20241103T170000
DTSTAMP:20260421T060048
CREATED:20241030T104315Z
LAST-MODIFIED:20241030T104805Z
UID:3642-1730624400-1730653200@www.comitatodisabilitam10.it
SUMMARY:MERCATINO REPUBBLICHE MARINARE
DESCRIPTION:In attesa del Natale\, nei giorni 3 Novembre\, 1 Dicembre e 22 Dicembre\, ci trovate al mercatino di Via dell Repubbliche Marinare\, ad Ostia.  \nQuest’anno abbiamo realizzato dei lavori unici\, irripetibili e a tiratura limitata! \nLa locandina mostra solo alcune dell nostre opere d’arte\, venite a trovarci\, vi aspettiamo numerosi!!!
URL:https://www.comitatodisabilitam10.it/eventi/mercatino-repubbliche-marinare/
LOCATION:Mercatino Repubbliche Marinare\, Viale delle Repubbliche Marinare\, Roma\, RM\, 00121\, Italy
CATEGORIES:Tutti gli eventi del Comitato Disabilità Municipio X
ATTACH;FMTTYPE=image/jpeg:https://www.comitatodisabilitam10.it/wp-content/uploads/2024/10/MERCATINO_REPUBBLICHE_MARINARE.jpeg
ORGANIZER;CN="Comitato Disabilit%C3%A0 Municipio X APS":MAILTO:comitatodisabilitam10@gmail.com
END:VEVENT
BEGIN:VEVENT
DTSTART;TZID=Europe/Rome:20241115T193000
DTEND;TZID=Europe/Rome:20241115T210000
DTSTAMP:20260421T060048
CREATED:20241014T155838Z
LAST-MODIFIED:20241014T160537Z
UID:3618-1731699000-1731704400@www.comitatodisabilitam10.it
SUMMARY:TEATRO: LA LIBERTÀ È FIGLIA UNICA
DESCRIPTION:LA LIBERTÀ È FIGLIA UNICA\, uno spettacolo di Lara Panizzi\, con Paola De Crescenzo\, Margherita Dongu\, Lara Panizzi\, Alice Venditti\, il 15 Novembre al Teatro del Lido. \n“In una società improntata su stereotipi di bellezza assurdi e prestazioni personali sempre più elevate\, la condizione di disabilità in famiglia presenta sfide uniche. Lo spettacolo esplora questa realtà senza pietismo\, offrendo uno sguardo autentico su un mondo troppo spesso sommerso.” \nACQUISTA I BIGLIETTI ONLINE SU VIVATICKET.COM (intero 10 euro | ridotto 8 euro). \nDi seguito il video di presentazione: \nhttps://www.comitatodisabilitam10.it/wp-content/uploads/2024/10/LA_LIBERTA_E_FIGLIA_UNICA-.mp4\nLA LIBERTÀ È FIGLIA UNICA si ispira al film documentario “ATTRAVERSO TE\, Storie di Siblings“\, realizzato nel 2018 dal nostro Comitato e visibile sul nostro canale YouTube. Il film racconta in prima persona le esperienze di fratelli e sorelle con disabilità alle prese con la loro vita\, dalla nascita alla presa in carico. \nNasce grazie alla collaborazione con L’ Ile Flottante\, un’associazione culturale che si occupa di produzione e formazione teatrale. La pratica teatrale utilizzata dall’Ile Flottante non prescinde dai percorsi formativi canonici\, ma si caratterizza per la ricerca continua di metodologie “aperte”\, basate sul lavoro laboratoriale\, su strumenti tecnici e sulle qualità empatiche dei partecipanti. Perché il teatro\, nella sua essenza\, è esplorazione dell’umanità e dello stare insieme nella differenza. \nDal 2022 cooperiamo cl’Ile Flottante nella gestione di un laboratorio teatrale permanente per persone con disabilità. L’incontro tra queste due realtà\, che da anni operano su un territorio complicato come quello del Municipio X di Roma (che ha concesso il patrocinio gratuito per questo spettacolo)\, ha visto la nascita de LA LIBERTÀ È FIGLIA UNICA.
URL:https://www.comitatodisabilitam10.it/eventi/teatro-la-liberta-e-figlia-unica/
LOCATION:Teatro del Lido\, Via delle Sirene 22\, Roma\, RM\, 00121\, Italia
CATEGORIES:Tutti gli eventi del Comitato Disabilità Municipio X
ATTACH;FMTTYPE=image/png:https://www.comitatodisabilitam10.it/wp-content/uploads/2024/10/LA_LIBERTA_E_FIGLIA_UNICA.png
ORGANIZER;CN="Comitato Disabilit%C3%A0 Municipio X APS":MAILTO:comitatodisabilitam10@gmail.com
END:VEVENT
BEGIN:VEVENT
DTSTART;TZID=Europe/Rome:20241117T100000
DTEND;TZID=Europe/Rome:20241117T170000
DTSTAMP:20260421T060048
CREATED:20241111T135005Z
LAST-MODIFIED:20251112T140053Z
UID:3659-1731837600-1731862800@www.comitatodisabilitam10.it
SUMMARY:MOSTRA FOTOGRAFICA "AIUTAMI A CRESCERE"
DESCRIPTION:In occasione della celebrazione della GIORNATA MONDIALE DELLA PREMATURITÀ\, il 17 Novembre 2024\, presso la hall del Policlinico Universitario A. Gemelli IRCCS\, avrà luogo la mostra fotografica AIUTAMI A CRESCERE\, realizzata da Pamela Pompei\, vice presidente del Comitato Disabilità Municipio X che\, insieme a GENITIN ONLUS\, ha finanziato l’esposizione. \nL’attenzione è volta a sottolineare che “Ogni anno più di 13 milioni di neonati (10% di tutti i nati) nascono prematuri nel mondo e di questi quasi 1 milione muore per complicazioni legate alla prematurità. Inoltre\, la prematurità e le sue complicanze rappresentano la principale causa di morte nel periodo neonatale (cioè nei primi 28 giorni di vita)”\, come spiega Giovanni Vento\, Direttore della UOC di Neonatologia e Terapia Intensiva Neonatale della Fondazione Policlinico Universitario Agostino Gemelli IRCCS e Professore Associato di Pediatria generale e specialistica all’Università Cattolica. \nLa mostra vuole sottolineare\, attraverso gli occhi non solo di una fotografa ma anche di una madre di 2 gemelli di 27 settimane\, le difficoltà dei bambini nati prematuri ma soprattutto la loro forza nel voler crescere! \nINFO nella locandina
URL:https://www.comitatodisabilitam10.it/eventi/mostra-fotografica-aiutami-a-crescere/
LOCATION:Hall del Policlinico Universitario Agostino Gemelli\, Largo Agostino Gemelli\, 8\, Roma\, RM\, 00168\, Italia
CATEGORIES:Tutti gli eventi del Comitato Disabilità Municipio X
ATTACH;FMTTYPE=image/jpeg:https://www.comitatodisabilitam10.it/wp-content/uploads/2024/11/AIUTAMI_A_CRESCERE-2.jpeg
ORGANIZER;CN="Comitato Disabilit%C3%A0 Municipio X APS":MAILTO:comitatodisabilitam10@gmail.com
END:VEVENT
END:VCALENDAR