BEGIN:VCALENDAR
VERSION:2.0
PRODID:-//Comitato Disabilità Municipio X - ECPv6.15.20//NONSGML v1.0//EN
CALSCALE:GREGORIAN
METHOD:PUBLISH
X-WR-CALNAME:Comitato Disabilità Municipio X
X-ORIGINAL-URL:https://www.comitatodisabilitam10.it
X-WR-CALDESC:Eventi per Comitato Disabilità Municipio X
REFRESH-INTERVAL;VALUE=DURATION:PT1H
X-Robots-Tag:noindex
X-PUBLISHED-TTL:PT1H
BEGIN:VTIMEZONE
TZID:Europe/Rome
BEGIN:DAYLIGHT
TZOFFSETFROM:+0100
TZOFFSETTO:+0200
TZNAME:CEST
DTSTART:20230326T010000
END:DAYLIGHT
BEGIN:STANDARD
TZOFFSETFROM:+0200
TZOFFSETTO:+0100
TZNAME:CET
DTSTART:20231029T010000
END:STANDARD
BEGIN:DAYLIGHT
TZOFFSETFROM:+0100
TZOFFSETTO:+0200
TZNAME:CEST
DTSTART:20240331T010000
END:DAYLIGHT
BEGIN:STANDARD
TZOFFSETFROM:+0200
TZOFFSETTO:+0100
TZNAME:CET
DTSTART:20241027T010000
END:STANDARD
BEGIN:DAYLIGHT
TZOFFSETFROM:+0100
TZOFFSETTO:+0200
TZNAME:CEST
DTSTART:20250330T010000
END:DAYLIGHT
BEGIN:STANDARD
TZOFFSETFROM:+0200
TZOFFSETTO:+0100
TZNAME:CET
DTSTART:20251026T010000
END:STANDARD
END:VTIMEZONE
BEGIN:VEVENT
DTSTART;TZID=Europe/Rome:20241201T090000
DTEND;TZID=Europe/Rome:20241201T170000
DTSTAMP:20260421T042558
CREATED:20241030T104548Z
LAST-MODIFIED:20241030T104548Z
UID:3646-1733043600-1733072400@www.comitatodisabilitam10.it
SUMMARY:MERCATINO REPUBBLICHE MARINARE
DESCRIPTION:In attesa del Natale\, nei giorni 3 Novembre\, 1 Dicembre e 22 Dicembre\, ci trovate al mercatino di Via dell Repubbliche Marinare\, ad Ostia.  \nQuest’anno abbiamo realizzato dei lavori unici\, irripetibili e a tiratura limitata! \nLa locandina mostra solo alcune dell nostre opere d’arte\, venite a trovarci\, vi aspettiamo numerosi!!!
URL:https://www.comitatodisabilitam10.it/eventi/mercatino-repubbliche-marinare-2/
LOCATION:Mercatino Repubbliche Marinare\, Viale delle Repubbliche Marinare\, Roma\, RM\, 00121\, Italy
CATEGORIES:Tutti gli eventi del Comitato Disabilità Municipio X
ATTACH;FMTTYPE=image/jpeg:https://www.comitatodisabilitam10.it/wp-content/uploads/2024/10/MERCATINO_REPUBBLICHE_MARINARE.jpeg
ORGANIZER;CN="Comitato Disabilit%C3%A0 Municipio X APS":MAILTO:comitatodisabilitam10@gmail.com
END:VEVENT
BEGIN:VEVENT
DTSTART;TZID=Europe/Rome:20241212T193000
DTEND;TZID=Europe/Rome:20241212T230000
DTSTAMP:20260421T042558
CREATED:20241211T164754Z
LAST-MODIFIED:20241211T164754Z
UID:3684-1734031800-1734044400@www.comitatodisabilitam10.it
SUMMARY:CENA DI BENEFICENZA "CUORE LIBERO"
DESCRIPTION:Unisciti a noi in una serata indimenticabile di solidarietà\, buon cibo e tanto cuore! \nAl Dish on the Beach\, giovedì 12 dicembre 2024 dalle 19.30. \nMetà dell’incasso sarà devoluto equamente a: \n\nCOMITATO DISABILITÀ MUNICIPIO X APS\nMELAVIVO\n\nPer info e prenotazioni: \nDish on the beach 06 69413610 / Fabrizio 339 8561998
URL:https://www.comitatodisabilitam10.it/eventi/cena-di-beneficenza-cuore-libero/
LOCATION:Dish on the Beach\, Via Alessandro Geraldini\, 12\, Roma\, RM\, 00122\, Italy
CATEGORIES:Tutti gli eventi del Comitato Disabilità Municipio X
ATTACH;FMTTYPE=image/jpeg:https://www.comitatodisabilitam10.it/wp-content/uploads/2024/12/cena_beneficenza.jpeg
END:VEVENT
BEGIN:VEVENT
DTSTART;TZID=Europe/Rome:20241214T143000
DTEND;TZID=Europe/Rome:20241214T183000
DTSTAMP:20260421T042558
CREATED:20241214T065408Z
LAST-MODIFIED:20241214T065408Z
UID:3701-1734186600-1734201000@www.comitatodisabilitam10.it
SUMMARY:Festa di NATALE 2024
DESCRIPTION:Vi spettiamo il 14 dicembre dalle 14.30 alle 18.30 per la festa di NATALE\, con: Giochi\, Animazione\, Balli\, Musica\, Trucco. \nIl programma prevede: \n\nHappypingua animazione dalle 14.30 alle 16.30.\nESIBIZIONE CORO DEL CDMX APS con Antonino Zaffiro dalle 16.30 alle 17.00.\nRIFFA con premi originali e tassativamente Home Made alle 17.00\nE poi…BABBO NATALE alle 17.30 con dolci e regali\n\nSe non si festeggia…che NATALE è???
URL:https://www.comitatodisabilitam10.it/eventi/festa-di-natale-2024/
LOCATION:Parrocchia S. Nicola di Bari\, Via G. Passeroni 1\, Roma\, Roma\, 00122\, Italia
CATEGORIES:Tutti gli eventi del Comitato Disabilità Municipio X
ATTACH;FMTTYPE=image/jpeg:https://www.comitatodisabilitam10.it/wp-content/uploads/2024/12/FESTA_NATALE_2024.jpeg
ORGANIZER;CN="Comitato Disabilit%C3%A0 Municipio X APS":MAILTO:comitatodisabilitam10@gmail.com
END:VEVENT
BEGIN:VEVENT
DTSTART;TZID=Europe/Rome:20241222T090000
DTEND;TZID=Europe/Rome:20241222T170000
DTSTAMP:20260421T042558
CREATED:20241030T104734Z
LAST-MODIFIED:20241030T104734Z
UID:3648-1734858000-1734886800@www.comitatodisabilitam10.it
SUMMARY:MERCATINO REPUBBLICHE MARINARE
DESCRIPTION:In attesa del Natale\, nei giorni 3 Novembre\, 1 Dicembre e 22 Dicembre\, ci trovate al mercatino di Via dell Repubbliche Marinare\, ad Ostia.  \nQuest’anno abbiamo realizzato dei lavori unici\, irripetibili e a tiratura limitata! \nLa locandina mostra solo alcune dell nostre opere d’arte\, venite a trovarci\, vi aspettiamo numerosi!!!
URL:https://www.comitatodisabilitam10.it/eventi/mercatino-repubbliche-marinare-3/
LOCATION:Mercatino Repubbliche Marinare\, Viale delle Repubbliche Marinare\, Roma\, RM\, 00121\, Italy
CATEGORIES:Tutti gli eventi del Comitato Disabilità Municipio X
ATTACH;FMTTYPE=image/jpeg:https://www.comitatodisabilitam10.it/wp-content/uploads/2024/10/MERCATINO_REPUBBLICHE_MARINARE.jpeg
ORGANIZER;CN="Comitato Disabilit%C3%A0 Municipio X APS":MAILTO:comitatodisabilitam10@gmail.com
END:VEVENT
END:VCALENDAR